Index of /checkResults/devel/bioc-LATEST/sigFeature/raw-results/riesling1

[ICO]NameLast modifiedSizeDescription

[DIR]Parent Directory  -  
[TXT]buildbin-out.txt22-Oct-2021 01:05 2.0K 
[   ]buildbin-summary.dcf22-Oct-2021 01:05 552  
[TXT]buildsrc-out.txt22-Oct-2021 01:05 854  
[   ]buildsrc-summary.dcf22-Oct-2021 01:05 465  
[TXT]checksrc-out.txt22-Oct-2021 01:05 3.8K 
[   ]checksrc-summary.dcf22-Oct-2021 01:05 462  
[TXT]install-out.txt22-Oct-2021 01:05 2.7K 
[   ]install-summary.dcf22-Oct-2021 01:05 656