Index of /checkResults/devel/bioc-LATEST/sigFeature/raw-results/nebbiolo2

[ICO]NameLast modifiedSizeDescription

[DIR]Parent Directory  -  
[TXT]buildsrc-out.txt26-Oct-2021 03:05 818  
[   ]buildsrc-summary.dcf26-Oct-2021 03:05 426  
[TXT]checksrc-out.txt26-Oct-2021 03:05 3.2K 
[   ]checksrc-summary.dcf26-Oct-2021 03:05 436  
[TXT]install-out.txt26-Oct-2021 03:05 1.0K 
[   ]install-summary.dcf26-Oct-2021 03:05 265