Index of /checkResults/devel/bioc-LATEST/sigFeature/raw-results/merida1

[ICO]NameLast modifiedSizeDescription

[DIR]Parent Directory  -  
[TXT]buildsrc-out.txt22-Oct-2021 01:05 828  
[   ]buildsrc-summary.dcf22-Oct-2021 01:05 436  
[TXT]checksrc-out.txt22-Oct-2021 01:05 3.2K 
[   ]checksrc-summary.dcf22-Oct-2021 01:05 456  
[TXT]install-out.txt22-Oct-2021 01:05 1.0K 
[   ]install-summary.dcf22-Oct-2021 01:05 275