Index of /checkResults/devel/bioc-LATEST/sigFeature/raw-results

[ICO]NameLast modifiedSizeDescription

[DIR]Parent Directory  -  
[DIR]nebbiolo2/26-Oct-2021 03:05 -  
[DIR]riesling1/26-Oct-2021 03:06 -  
[DIR]merida1/26-Oct-2021 03:07 -  
[   ]info.dcf26-Oct-2021 03:08 277  
[DIR]machv2/26-Oct-2021 03:08 -