Back to Multiple platform build/check report for BioC 3.14
ABCDEFGHIJKLMNOPQR[S]TUVWXYZ

This page was generated on 2021-07-24 12:05:41 -0400 (Sat, 24 Jul 2021).

INSTALL results for sigFeature on nebbiolo2

To the developers/maintainers of the sigFeature package:
- Please allow up to 24 hours (and sometimes 48 hours) for your latest push to git@git.bioconductor.org:packages/sigFeature.git to
reflect on this report. See How and When does the builder pull? When will my changes propagate? here for more information.
- Make sure to use the following settings in order to reproduce any error or warning you see on this page.

raw results

Package 1727/2008HostnameOS / ArchINSTALLBUILDCHECKBUILD BIN
sigFeature 1.11.0  (landing page)
Pijush Das Developer
Snapshot Date: 2021-07-23 14:50:08 -0400 (Fri, 23 Jul 2021)
URL: https://git.bioconductor.org/packages/sigFeature
Branch: master
Last Commit: 1e8d782
Last Changed Date: 2021-05-19 12:35:56 -0400 (Wed, 19 May 2021)
nebbiolo2Linux (Ubuntu 20.04.2 LTS) / x86_64  OK    ERROR  skipped
riesling1Windows Server 2019 Standard / x64  OK    OK    OK    OK  UNNEEDED, same version is already published
merida1macOS 10.14.6 Mojave / x86_64  OK    ERROR  skippedskipped

Summary

Package: sigFeature
Version: 1.11.0
Command: /home/biocbuild/bbs-3.14-bioc/R/bin/R CMD INSTALL sigFeature
StartedAt: 2021-07-23 16:12:03 -0400 (Fri, 23 Jul 2021)
EndedAt: 2021-07-23 16:12:29 -0400 (Fri, 23 Jul 2021)
EllapsedTime: 25.4 seconds
RetCode: 0
Status:   OK  

Command output

##############################################################################
##############################################################################
###
### Running command:
###
###   /home/biocbuild/bbs-3.14-bioc/R/bin/R CMD INSTALL sigFeature
###
##############################################################################
##############################################################################


* installing to library ‘/home/biocbuild/bbs-3.14-bioc/R/library’
* installing *source* package ‘sigFeature’ ...
** using staged installation
** R
** data
*** moving datasets to lazyload DB
** inst
** byte-compile and prepare package for lazy loading
** help
*** installing help indices
** building package indices
** installing vignettes
** testing if installed package can be loaded from temporary location
** testing if installed package can be loaded from final location
** testing if installed package keeps a record of temporary installation path
* DONE (sigFeature)