Index of /checkResults/devel/bioc-LATEST/seqTools/raw-results/nebbiolo2

[ICO]NameLast modifiedSizeDescription

[DIR]Parent Directory  -  
[TXT]buildsrc-out.txt18-Jul-2024 00:39 864  
[   ]buildsrc-summary.dcf18-Jul-2024 00:39 426  
[TXT]checksrc-out.txt18-Jul-2024 00:39 7.2K 
[   ]checksrc-summary.dcf18-Jul-2024 00:39 423  
[TXT]install-out.txt18-Jul-2024 00:39 3.7K 
[   ]install-summary.dcf18-Jul-2024 00:39 260