Index of /checkResults/devel/bioc-LATEST/seqTools/raw-results/kjohnson3

[ICO]NameLast modifiedSizeDescription

[DIR]Parent Directory  -  
[TXT]buildbin-out.txt13-Jul-2024 01:35 5.2K 
[   ]buildbin-summary.dcf13-Jul-2024 01:35 535  
[TXT]buildsrc-out.txt13-Jul-2024 01:35 850  
[   ]buildsrc-summary.dcf13-Jul-2024 01:35 429  
[TXT]checksrc-out.txt13-Jul-2024 01:35 7.7K 
[   ]checksrc-summary.dcf13-Jul-2024 01:35 453  
[TXT]install-out.txt13-Jul-2024 01:35 3.2K 
[   ]install-summary.dcf13-Jul-2024 01:35 270