Index of /checkResults/devel/bioc-LATEST/scruff/raw-results

[ICO]NameLast modifiedSizeDescription

[DIR]Parent Directory  -  
[   ]info.dcf21-Jun-2024 01:14 248  
[DIR]kjohnson1/12-Jun-2024 04:43 -  
[DIR]kjohnson3/20-Jun-2024 01:12 -  
[DIR]kunpeng2/16-May-2024 02:46 -  
[DIR]lconway/21-Jun-2024 01:15 -  
[DIR]merida1/12-Jun-2024 04:42 -  
[DIR]nebbiolo2/21-Jun-2024 01:14 -  
[DIR]palomino4/12-Jun-2024 04:41 -