Back to Multiple platform build/check report for BioC 3.14
ABCDEFGHIJKLMNOPQR[S]TUVWXYZ

This page was generated on 2021-09-18 12:06:55 -0400 (Sat, 18 Sep 2021).

INSTALL results for scruff on merida1

To the developers/maintainers of the scruff package:
- Please allow up to 24 hours (and sometimes 48 hours) for your latest push to git@git.bioconductor.org:packages/scruff.git to
reflect on this report. See How and When does the builder pull? When will my changes propagate? here for more information.
- Make sure to use the following settings in order to reproduce any error or warning you see on this page.

raw results

Package 1700/2029HostnameOS / ArchINSTALLBUILDCHECKBUILD BIN
scruff 1.11.0  (landing page)
Zhe Wang
Snapshot Date: 2021-09-17 14:50:09 -0400 (Fri, 17 Sep 2021)
git_url: https://git.bioconductor.org/packages/scruff
git_branch: master
git_last_commit: b8dd55b
git_last_commit_date: 2021-05-19 12:36:52 -0400 (Wed, 19 May 2021)
nebbiolo2Linux (Ubuntu 20.04.2 LTS) / x86_64  OK    OK    OK  UNNEEDED, same version is already published
riesling1Windows Server 2019 Standard / x64  OK    OK    OK    OK  UNNEEDED, same version is already published
merida1macOS 10.14.6 Mojave / x86_64  OK    OK    OK    OK  UNNEEDED, same version is already published

Summary

Package: scruff
Version: 1.11.0
Command: /Library/Frameworks/R.framework/Resources/bin/R CMD INSTALL scruff
StartedAt: 2021-09-17 17:55:13 -0400 (Fri, 17 Sep 2021)
EndedAt: 2021-09-17 17:56:13 -0400 (Fri, 17 Sep 2021)
EllapsedTime: 60.0 seconds
RetCode: 0
Status:   OK  

Command output

##############################################################################
##############################################################################
###
### Running command:
###
###   /Library/Frameworks/R.framework/Resources/bin/R CMD INSTALL scruff
###
##############################################################################
##############################################################################


* installing to library ‘/Library/Frameworks/R.framework/Versions/4.1/Resources/library’
* installing *source* package ‘scruff’ ...
** using staged installation
** R
** data
** inst
** byte-compile and prepare package for lazy loading
** help
*** installing help indices
** building package indices
** installing vignettes
** testing if installed package can be loaded from temporary location
** testing if installed package can be loaded from final location
** testing if installed package keeps a record of temporary installation path
* DONE (scruff)