Index of /checkResults/devel/bioc-LATEST/scPipe/raw-results

[ICO]NameLast modifiedSizeDescription

[DIR]Parent Directory  -  
[   ]info.dcf22-Jun-2024 00:34 253  
[DIR]kjohnson1/12-Jun-2024 04:43 -  
[DIR]kjohnson3/20-Jun-2024 01:12 -  
[DIR]kunpeng2/16-May-2024 02:46 -  
[DIR]lconway/22-Jun-2024 00:36 -  
[DIR]merida1/12-Jun-2024 04:42 -  
[DIR]nebbiolo2/22-Jun-2024 00:35 -  
[DIR]palomino4/12-Jun-2024 04:41 -