Index of /checkResults/devel/bioc-LATEST/rsbml/raw-results

[ICO]NameLast modifiedSizeDescription

[DIR]Parent Directory  -  
[DIR]nebbiolo2/06-Aug-2021 01:06 -  
[DIR]riesling1/06-Aug-2021 01:06 -