Back to Multiple platform build/check report for BioC 3.14
ABCDEFGHIJKLMNOPQ[R]STUVWXYZ

This page was generated on 2021-09-18 12:06:21 -0400 (Sat, 18 Sep 2021).

BUILD BIN results for ribosomeProfilingQC on riesling1

To the developers/maintainers of the ribosomeProfilingQC package:
- Please allow up to 24 hours (and sometimes 48 hours) for your latest push to git@git.bioconductor.org:packages/ribosomeProfilingQC.git to
reflect on this report. See How and When does the builder pull? When will my changes propagate? here for more information.
- Make sure to use the following settings in order to reproduce any error or warning you see on this page.

raw results

Package 1569/2029HostnameOS / ArchINSTALLBUILDCHECKBUILD BIN
ribosomeProfilingQC 1.5.0  (landing page)
Jianhong Ou
Snapshot Date: 2021-09-17 14:50:09 -0400 (Fri, 17 Sep 2021)
git_url: https://git.bioconductor.org/packages/ribosomeProfilingQC
git_branch: master
git_last_commit: 7503f41
git_last_commit_date: 2021-05-19 12:49:46 -0400 (Wed, 19 May 2021)
nebbiolo2Linux (Ubuntu 20.04.2 LTS) / x86_64  OK    OK    OK  UNNEEDED, same version is already published
riesling1Windows Server 2019 Standard / x64  OK    OK    OK    OK  UNNEEDED, same version is already published
merida1macOS 10.14.6 Mojave / x86_64  OK    OK    OK    OK  UNNEEDED, same version is already published

Summary

Package: ribosomeProfilingQC
Version: 1.5.0
Command: rm -rf ribosomeProfilingQC.buildbin-libdir && mkdir ribosomeProfilingQC.buildbin-libdir && D:\biocbuild\bbs-3.14-bioc\R\bin\R.exe CMD INSTALL --merge-multiarch --build --library=ribosomeProfilingQC.buildbin-libdir ribosomeProfilingQC_1.5.0.tar.gz
StartedAt: 2021-09-18 06:53:16 -0400 (Sat, 18 Sep 2021)
EndedAt: 2021-09-18 06:57:20 -0400 (Sat, 18 Sep 2021)
EllapsedTime: 244.5 seconds
RetCode: 0
Status:   OK  
PackageFile: ribosomeProfilingQC_1.5.0.zip
PackageFileSize: 2.925 MiB

Command output

##############################################################################
##############################################################################
###
### Running command:
###
###   rm -rf ribosomeProfilingQC.buildbin-libdir && mkdir ribosomeProfilingQC.buildbin-libdir && D:\biocbuild\bbs-3.14-bioc\R\bin\R.exe CMD INSTALL --merge-multiarch --build --library=ribosomeProfilingQC.buildbin-libdir ribosomeProfilingQC_1.5.0.tar.gz
###
##############################################################################
##############################################################################



install for i386

* installing *source* package 'ribosomeProfilingQC' ...
** using staged installation
** R
** inst
** byte-compile and prepare package for lazy loading
** help
*** installing help indices
  converting help for package 'ribosomeProfilingQC'
    finding HTML links ... done
    FLOSS                                   html  
    PAmotif                                 html  
    assignReadingFrame                      html  
    codonUsage                              html  
    countReads                              html  
    coverageDepth                           html  
    coverageRates                           html  
    cvgd-class                              html  
    estimatePsite                           html  
    filterCDS                               html  
    frameCounts                             html  
    getFPKM                                 html  
    getORFscore                             html  
    getPsiteCoordinates                     html  
    ggBar                                   html  
    metaPlot                                html  
    normByRUVs                              html  
    plotDistance2Codon                      html  
    plotFrameDensity                        html  
    plotSpliceEvent                         html  
    plotTE                                  html  
    plotTranscript                          html  
    prepareCDS                              html  
    readsDistribution                       html  
    readsEndPlot                            html  
    readsLenToKeep                          html  
    ribosomeReleaseScore                    html  
    shiftReadsByFrame                       html  
    simulateRPF                             html  
    spliceEvent                             html  
    strandPlot                              html  
    summaryReadsLength                      html  
    translationalEfficiency                 html  
** building package indices
** installing vignettes
** testing if installed package can be loaded from temporary location
** testing if installed package can be loaded from final location
** testing if installed package keeps a record of temporary installation path

install for x64

* installing *source* package 'ribosomeProfilingQC' ...
** testing if installed package can be loaded
* MD5 sums
packaged installation of 'ribosomeProfilingQC' as ribosomeProfilingQC_1.5.0.zip
* DONE (ribosomeProfilingQC)