Back to Multiple platform build/check report for BioC 3.14
ABCDEFGHIJKLMNOPQ[R]STUVWXYZ

This page was generated on 2021-07-23 12:05:31 -0400 (Fri, 23 Jul 2021).

BUILD results for ribor on merida1

To the developers/maintainers of the ribor package:
- Please allow up to 24 hours (and sometimes 48 hours) for your latest push to git@git.bioconductor.org:packages/ribor.git to
reflect on this report. See How and When does the builder pull? When will my changes propagate? here for more information.
- Make sure to use the following settings in order to reproduce any error or warning you see on this page.

raw results

Package 1554/2008HostnameOS / ArchINSTALLBUILDCHECKBUILD BIN
ribor 1.5.0  (landing page)
Michael Geng
Snapshot Date: 2021-07-22 14:50:06 -0400 (Thu, 22 Jul 2021)
URL: https://git.bioconductor.org/packages/ribor
Branch: master
Last Commit: c603704
Last Changed Date: 2021-05-19 12:50:02 -0400 (Wed, 19 May 2021)
nebbiolo2Linux (Ubuntu 20.04.2 LTS) / x86_64  OK    OK    OK  UNNEEDED, same version is already published
riesling1Windows Server 2019 Standard / x64  OK    OK    OK    OK  UNNEEDED, same version is already published
merida1macOS 10.14.6 Mojave / x86_64  OK    OK    OK    OK  UNNEEDED, same version is already published

Summary

Package: ribor
Version: 1.5.0
Command: /Library/Frameworks/R.framework/Resources/bin/R CMD build --keep-empty-dirs --no-resave-data ribor
StartedAt: 2021-07-22 21:45:36 -0400 (Thu, 22 Jul 2021)
EndedAt: 2021-07-22 21:46:57 -0400 (Thu, 22 Jul 2021)
EllapsedTime: 80.9 seconds
RetCode: 0
Status:   OK  
PackageFile: ribor_1.5.0.tar.gz
PackageFileSize: 4.27 MiB

Command output

##############################################################################
##############################################################################
###
### Running command:
###
###   /Library/Frameworks/R.framework/Resources/bin/R CMD build --keep-empty-dirs --no-resave-data ribor
###
##############################################################################
##############################################################################


* checking for file ‘ribor/DESCRIPTION’ ... OK
* preparing ‘ribor’:
* checking DESCRIPTION meta-information ... OK
* installing the package to build vignettes
* creating vignettes ... OK
* checking for LF line-endings in source and make files and shell scripts
* checking for empty or unneeded directories
Omitted ‘LazyData’ from DESCRIPTION
* building ‘ribor_1.5.0.tar.gz’