Index of /checkResults/devel/bioc-LATEST/qusage/raw-results/nebbiolo2

[ICO]NameLast modifiedSizeDescription

[DIR]Parent Directory  -  
[TXT]buildsrc-out.txt16-Jun-2024 01:33 889  
[   ]buildsrc-summary.dcf16-Jun-2024 01:33 421  
[TXT]checksrc-out.txt16-Jun-2024 01:33 10K 
[   ]checksrc-summary.dcf16-Jun-2024 01:33 410  
[TXT]install-out.txt16-Jun-2024 01:33 957  
[   ]install-summary.dcf16-Jun-2024 01:33 256