Back to Multiple platform build/check report for BioC 3.14
ABCDEFGHIJKLMNOP[Q]RSTUVWXYZ

This page was generated on 2021-06-19 12:06:04 -0400 (Sat, 19 Jun 2021).

BUILD results for qpgraph on riesling1

To the developers/maintainers of the qpgraph package:
- Please allow up to 24 hours (and sometimes 48 hours) for your latest push to git@git.bioconductor.org:packages/qpgraph.git to
reflect on this report. See How and When does the builder pull? When will my changes propagate? here for more information.
- Make sure to use the following settings in order to reproduce any error or warning you see on this page.

raw results

Package 1437/1993HostnameOS / ArchINSTALLBUILDCHECKBUILD BIN
qpgraph 2.27.0  (landing page)
Robert Castelo
Snapshot Date: 2021-06-18 14:50:08 -0400 (Fri, 18 Jun 2021)
URL: https://git.bioconductor.org/packages/qpgraph
Branch: master
Last Commit: 939d32a
Last Changed Date: 2021-05-19 11:42:31 -0400 (Wed, 19 May 2021)
nebbiolo2Linux (Ubuntu 20.04.2 LTS) / x86_64  OK    OK    WARNINGS  UNNEEDED, same version is already published
riesling1Windows Server 2019 Standard / x64  OK    OK    WARNINGS    OK  NO, package depends on 'Rgraphviz' which is not available
merida1macOS 10.14.6 Mojave / x86_64  OK    OK    WARNINGS    OK  UNNEEDED, same version is already published

Summary

Package: qpgraph
Version: 2.27.0
Command: chmod a+r qpgraph -R && D:\biocbuild\bbs-3.14-bioc\R\bin\R.exe CMD build --keep-empty-dirs --no-resave-data qpgraph
StartedAt: 2021-06-18 21:34:40 -0400 (Fri, 18 Jun 2021)
EndedAt: 2021-06-18 21:38:04 -0400 (Fri, 18 Jun 2021)
EllapsedTime: 203.5 seconds
RetCode: 0
Status:   OK  
PackageFile: qpgraph_2.27.0.tar.gz
PackageFileSize: 2.669 MiB

Command output

##############################################################################
##############################################################################
###
### Running command:
###
###   chmod a+r qpgraph -R && D:\biocbuild\bbs-3.14-bioc\R\bin\R.exe CMD build --keep-empty-dirs --no-resave-data qpgraph
###
##############################################################################
##############################################################################


* checking for file 'qpgraph/DESCRIPTION' ... OK
* preparing 'qpgraph':
* checking DESCRIPTION meta-information ... OK
* cleaning src
* installing the package to build vignettes
* creating vignettes ... OK
* cleaning src
* checking for LF line-endings in source and make files and shell scripts
* checking for empty or unneeded directories
* building 'qpgraph_2.27.0.tar.gz'
Warning: file 'qpgraph/cleanup' did not have execute permissions: corrected
Warning: file 'qpgraph/configure' did not have execute permissions: corrected