Back to Multiple platform build/check report for BioC 3.20:   simplified   long
ABCDEFGHIJKLMNOP[Q]RSTUVWXYZ

This page was generated on 2024-07-20 13:55 -0400 (Sat, 20 Jul 2024).

HostnameOSArch (*)R versionInstalled pkgs
nebbiolo2Linux (Ubuntu 22.04.3 LTS)x86_644.4.1 (2024-06-14) -- "Race for Your Life" 4688
lconwaymacOS 12.7.1 Montereyx86_644.4.1 (2024-06-14) -- "Race for Your Life" 4455
Click on any hostname to see more info about the system (e.g. compilers)      (*) as reported by 'uname -p', except on Windows and Mac OS X

Package 1597/2248HostnameOS / ArchINSTALLBUILDCHECKBUILD BIN
qckitfastq 1.21.0  (landing page)
August Guang
Snapshot Date: 2024-07-19 14:00 -0400 (Fri, 19 Jul 2024)
git_url: https://git.bioconductor.org/packages/qckitfastq
git_branch: devel
git_last_commit: 1e671c4
git_last_commit_date: 2024-04-30 11:13:03 -0400 (Tue, 30 Apr 2024)
nebbiolo2Linux (Ubuntu 22.04.3 LTS) / x86_64  OK    OK    OK  UNNEEDED, same version is already published
lconwaymacOS 12.7.1 Monterey / x86_64  OK    OK    OK    OK  UNNEEDED, same version is already published


BUILD results for qckitfastq on lconway

To the developers/maintainers of the qckitfastq package:
- Allow up to 24 hours (and sometimes 48 hours) for your latest push to git@git.bioconductor.org:packages/qckitfastq.git to reflect on this report. See Troubleshooting Build Report for more information.
- Use the following Renviron settings to reproduce errors and warnings.
- If 'R CMD check' started to fail recently on the Linux builder(s) over a missing dependency, add the missing dependency to 'Suggests:' in your DESCRIPTION file. See Renviron.bioc for more information.

raw results


Summary

Package: qckitfastq
Version: 1.21.0
Command: /Library/Frameworks/R.framework/Resources/bin/R CMD build --keep-empty-dirs --no-resave-data qckitfastq
StartedAt: 2024-07-19 19:33:04 -0400 (Fri, 19 Jul 2024)
EndedAt: 2024-07-19 19:33:49 -0400 (Fri, 19 Jul 2024)
EllapsedTime: 45.2 seconds
RetCode: 0
Status:   OK  
PackageFile: qckitfastq_1.21.0.tar.gz
PackageFileSize: 980.3 KiB

Command output

##############################################################################
##############################################################################
###
### Running command:
###
###   /Library/Frameworks/R.framework/Resources/bin/R CMD build --keep-empty-dirs --no-resave-data qckitfastq
###
##############################################################################
##############################################################################


* checking for file ‘qckitfastq/DESCRIPTION’ ... OK
* preparing ‘qckitfastq’:
* checking DESCRIPTION meta-information ... OK
* cleaning src
* installing the package to build vignettes
* creating vignettes ... OK
* cleaning src
* checking for LF line-endings in source and make files and shell scripts
* checking for empty or unneeded directories
Omitted ‘LazyData’ from DESCRIPTION
* building ‘qckitfastq_1.21.0.tar.gz’