Back to Multiple platform build/check report for BioC 3.14
ABCDEFGHIJKLMNO[P]QRSTUVWXYZ

This page was generated on 2021-07-31 12:06:51 -0400 (Sat, 31 Jul 2021).

BUILD results for pwOmics on merida1

To the developers/maintainers of the pwOmics package:
- Please allow up to 24 hours (and sometimes 48 hours) for your latest push to git@git.bioconductor.org:packages/pwOmics.git to
reflect on this report. See How and When does the builder pull? When will my changes propagate? here for more information.
- Make sure to use the following settings in order to reproduce any error or warning you see on this page.

raw results

Package 1446/2015HostnameOS / ArchINSTALLBUILDCHECKBUILD BIN
pwOmics 1.25.0  (landing page)
Maren Sitte
Snapshot Date: 2021-07-30 14:50:06 -0400 (Fri, 30 Jul 2021)
URL: https://git.bioconductor.org/packages/pwOmics
Branch: master
Last Commit: 47c1b5f
Last Changed Date: 2021-05-19 12:13:37 -0400 (Wed, 19 May 2021)
nebbiolo2Linux (Ubuntu 20.04.2 LTS) / x86_64  OK    OK    WARNINGS  UNNEEDED, same version is already published
riesling1Windows Server 2019 Standard / x64  OK    OK    WARNINGS    OK  NO, package depends on 'STRINGdb' which is not available
merida1macOS 10.14.6 Mojave / x86_64  OK    OK    WARNINGS    OK  UNNEEDED, same version is already published

Summary

Package: pwOmics
Version: 1.25.0
Command: /Library/Frameworks/R.framework/Resources/bin/R CMD build --keep-empty-dirs --no-resave-data pwOmics
StartedAt: 2021-07-30 21:34:57 -0400 (Fri, 30 Jul 2021)
EndedAt: 2021-07-30 21:35:03 -0400 (Fri, 30 Jul 2021)
EllapsedTime: 5.8 seconds
RetCode: 0
Status:   OK  
PackageFile: pwOmics_1.25.0.tar.gz
PackageFileSize: 882.5 KiB

Command output

##############################################################################
##############################################################################
###
### Running command:
###
###   /Library/Frameworks/R.framework/Resources/bin/R CMD build --keep-empty-dirs --no-resave-data pwOmics
###
##############################################################################
##############################################################################


* checking for file ‘pwOmics/DESCRIPTION’ ... OK
* preparing ‘pwOmics’:
* checking DESCRIPTION meta-information ... OK
* checking for LF line-endings in source and make files and shell scripts
* checking for empty or unneeded directories
* looking to see if a ‘data/datalist’ file should be added
* building ‘pwOmics_1.25.0.tar.gz’