Back to Multiple platform build/check report for BioC 3.20:   simplified   long
ABCDEFGHIJKLMNO[P]QRSTUVWXYZ

This page was generated on 2024-06-21 13:21 -0400 (Fri, 21 Jun 2024).

HostnameOSArch (*)R versionInstalled pkgs
nebbiolo2Linux (Ubuntu 22.04.3 LTS)x86_644.4.0 RC (2024-04-16 r86468) -- "Puppy Cup" 4690
lconwaymacOS 12.7.1 Montereyx86_644.4.1 RC (2024-06-06 r86719) -- "Race for Your Life" 4404
kjohnson3macOS 13.6.5 Venturaarm644.4.1 RC (2024-06-06 r86719) -- "Race for Your Life" 4353
Click on any hostname to see more info about the system (e.g. compilers)      (*) as reported by 'uname -p', except on Windows and Mac OS X

Package 1582/2242HostnameOS / ArchINSTALLBUILDCHECKBUILD BIN
psygenet2r 1.37.0  (landing page)
Alba Gutierrez-Sacristan
Snapshot Date: 2024-06-20 14:00 -0400 (Thu, 20 Jun 2024)
git_url: https://git.bioconductor.org/packages/psygenet2r
git_branch: devel
git_last_commit: 4240a61
git_last_commit_date: 2024-04-30 10:49:00 -0400 (Tue, 30 Apr 2024)
nebbiolo2Linux (Ubuntu 22.04.3 LTS) / x86_64  OK    OK    OK  UNNEEDED, same version is already published
lconwaymacOS 12.7.1 Monterey / x86_64  OK    OK    OK    OK  UNNEEDED, same version is already published
kjohnson3macOS 13.6.5 Ventura / arm64  OK    OK    OK    OK  UNNEEDED, same version is already published


CHECK results for psygenet2r on nebbiolo2

To the developers/maintainers of the psygenet2r package:
- Allow up to 24 hours (and sometimes 48 hours) for your latest push to git@git.bioconductor.org:packages/psygenet2r.git to reflect on this report. See Troubleshooting Build Report for more information.
- Use the following Renviron settings to reproduce errors and warnings.
- If 'R CMD check' started to fail recently on the Linux builder(s) over a missing dependency, add the missing dependency to 'Suggests:' in your DESCRIPTION file. See Renviron.bioc for more information.

raw results


Summary

Package: psygenet2r
Version: 1.37.0
Command: /home/biocbuild/bbs-3.20-bioc/R/bin/R CMD check --install=check:psygenet2r.install-out.txt --library=/home/biocbuild/bbs-3.20-bioc/R/site-library --timings psygenet2r_1.37.0.tar.gz
StartedAt: 2024-06-21 02:28:01 -0400 (Fri, 21 Jun 2024)
EndedAt: 2024-06-21 02:39:07 -0400 (Fri, 21 Jun 2024)
EllapsedTime: 666.2 seconds
RetCode: 0
Status:   OK  
CheckDir: psygenet2r.Rcheck
Warnings: 0

Command output

##############################################################################
##############################################################################
###
### Running command:
###
###   /home/biocbuild/bbs-3.20-bioc/R/bin/R CMD check --install=check:psygenet2r.install-out.txt --library=/home/biocbuild/bbs-3.20-bioc/R/site-library --timings psygenet2r_1.37.0.tar.gz
###
##############################################################################
##############################################################################


* using log directory ‘/home/biocbuild/bbs-3.20-bioc/meat/psygenet2r.Rcheck’
* using R version 4.4.0 RC (2024-04-16 r86468)
* using platform: x86_64-pc-linux-gnu
* R was compiled by
    gcc (Ubuntu 11.4.0-1ubuntu1~22.04) 11.4.0
    GNU Fortran (Ubuntu 11.4.0-1ubuntu1~22.04) 11.4.0
* running under: Ubuntu 22.04.4 LTS
* using session charset: UTF-8
* checking for file ‘psygenet2r/DESCRIPTION’ ... OK
* this is package ‘psygenet2r’ version ‘1.37.0’
* checking package namespace information ... NOTE
Found export directives that require package ‘methods’:
  ‘exportClasses’ ‘exportMethods’
Remove all such namespace directives (if obsolete) or ensure that the
DESCRIPTION Depends or Imports field contains ‘methods’.
* checking package dependencies ... OK
* checking if this is a source package ... OK
* checking if there is a namespace ... OK
* checking for hidden files and directories ... OK
* checking for portable file names ... OK
* checking for sufficient/correct file permissions ... OK
* checking whether package ‘psygenet2r’ can be installed ... OK
* checking installed package size ... OK
* checking package directory ... OK
* checking ‘build’ directory ... OK
* checking DESCRIPTION meta-information ... NOTE
License stub is invalid DCF.
* checking top-level files ... OK
* checking for left-over files ... OK
* checking index information ... OK
* checking package subdirectories ... OK
* checking code files for non-ASCII characters ... OK
* checking R files for syntax errors ... OK
* checking whether the package can be loaded ... OK
* checking whether the package can be loaded with stated dependencies ... OK
* checking whether the package can be unloaded cleanly ... OK
* checking whether the namespace can be loaded with stated dependencies ... OK
* checking whether the namespace can be unloaded cleanly ... OK
* checking loading without being on the library search path ... OK
* checking dependencies in R code ... NOTE
Namespace in Imports field not imported from: ‘GO.db’
  All declared Imports should be used.
package 'methods' is used but not declared
* checking S3 generic/method consistency ... OK
* checking replacement functions ... OK
* checking foreign function calls ... OK
* checking R code for possible problems ... NOTE
.category_plot: no visible binding for global variable ‘category’
.category_plot: no visible binding for global variable ‘value’
.category_plot: no visible binding for global variable ‘variable’
.gene_plot: no visible binding for global variable ‘gene’
.gene_plot: no visible binding for global variable ‘value’
.gene_plot: no visible binding for global variable ‘variable’
.index_plot: no visible binding for global variable ‘Category’
.index_plot: no visible binding for global variable ‘value’
.index_plot: no visible binding for global variable ‘variable’
.pie_plot: no visible global function definition for ‘pie’
ListPsyGeNETIds: no visible global function definition for ‘read.csv’
disGenetCurated: no visible global function definition for ‘read.csv’
enrichedPD : <anonymous>: no visible global function definition for
  ‘phyper’
getUMLs: no visible global function definition for ‘read.csv’
jaccardEstimation: no visible binding for global variable ‘universe’
multipleInput: no visible global function definition for ‘new’
pantherGraphic: no visible binding for global variable ‘Var1’
pantherGraphic: no visible binding for global variable ‘perc’
pantherGraphic: no visible binding for global variable ‘diseases’
plot_pmids_barplot: no visible binding for global variable
  ‘c2.DiseaseName’
plot_pmids_barplot: no visible binding for global variable
  ‘c0.Number_of_Abstracts’
plot_pmids_barplot: no visible binding for global variable
  ‘c1.Gene_Symbol’
plot_psy_heatmap: no visible binding for global variable
  ‘c2.PsychiatricDisorder’
plot_psy_heatmap: no visible binding for global variable
  ‘c1.Gene_Symbol’
plot_psy_heatmap: no visible binding for global variable ‘value’
plot_psy_heatmapDisease: no visible binding for global variable
  ‘c2.DiseaseName’
plot_psy_heatmapDisease: no visible binding for global variable
  ‘c1.Gene_Symbol’
plot_psy_heatmapDisease: no visible binding for global variable
  ‘c0.Score’
plot_psy_heatmapGenes: no visible binding for global variable
  ‘c1.Gene_Symbol’
plot_psy_heatmapGenes: no visible binding for global variable
  ‘c2.DiseaseName’
plot_psy_heatmapGenes: no visible binding for global variable
  ‘c0.Score’
psyGenDisId: no visible global function definition for ‘read.csv’
psyPanther: no visible global function definition for ‘read.csv’
psygenetAll: no visible global function definition for ‘read.csv’
psygenetDisease: no visible global function definition for ‘read.csv’
psygenetDisease: no visible global function definition for ‘new’
psygenetDiseaseSentences: no visible global function definition for
  ‘read.csv’
psygenetDiseaseSentences: no visible global function definition for
  ‘new’
psygenetGene: no visible global function definition for ‘read.csv’
psygenetGene: no visible global function definition for ‘new’
psygenetGeneSentences: no visible global function definition for
  ‘read.csv’
psygenetGeneSentences: no visible global function definition for ‘new’
singleInput: no visible global function definition for ‘combn’
singleInput: no visible global function definition for ‘new’
singleInput.genes: no visible global function definition for ‘new’
topAnatEnrichment: no visible binding for global variable ‘database’
topAnatEnrichment: no visible global function definition for
  ‘read.delim’
plot,JaccardIndexPsy-ANY: no visible binding for global variable
  ‘Disease1’
plot,JaccardIndexPsy-ANY: no visible binding for global variable
  ‘Disease2’
plot,JaccardIndexPsy-ANY: no visible binding for global variable
  ‘JaccardIndex’
plot,JaccardIndexPsy-ANY: no visible binding for global variable
  ‘value’
plot,JaccardIndexPsy-ANY: no visible binding for global variable
  ‘variable’
Undefined global functions or variables:
  Category Disease1 Disease2 JaccardIndex Var1 c0.Number_of_Abstracts
  c0.Score c1.Gene_Symbol c2.DiseaseName c2.PsychiatricDisorder
  category combn database diseases gene new perc phyper pie read.csv
  read.delim universe value variable
Consider adding
  importFrom("graphics", "pie")
  importFrom("methods", "new")
  importFrom("stats", "phyper")
  importFrom("utils", "combn", "read.csv", "read.delim")
to your NAMESPACE file (and ensure that your DESCRIPTION Imports field
contains 'methods').
* checking Rd files ... OK
* checking Rd metadata ... OK
* checking Rd cross-references ... OK
* checking for missing documentation entries ... OK
* checking for code/documentation mismatches ... OK
* checking Rd \usage sections ... OK
* checking Rd contents ... OK
* checking for unstated dependencies in examples ... OK
* checking contents of ‘data’ directory ... OK
* checking data for non-ASCII characters ... OK
* checking LazyData ... OK
* checking data for ASCII and uncompressed saves ... OK
* checking files in ‘vignettes’ ... OK
* checking examples ... OK
Examples with CPU (user + system) or elapsed time > 5s
                         user system elapsed
pantherGraphic-methods  0.282  0.024   6.057
psygenetGeneSentences   0.255  0.026  27.896
JaccardIndexPsy-class   0.123  0.111   5.142
enrichedPD-methods      0.125  0.025   7.965
psygenetDisease-methods 0.045  0.009   5.314
* checking for unstated dependencies in ‘tests’ ... OK
* checking tests ...
  Running ‘testthat.R’
 OK
* checking for unstated dependencies in vignettes ... OK
* checking package vignettes ... OK
* checking re-building of vignette outputs ... OK
* checking PDF version of manual ... OK
* DONE

Status: 4 NOTEs
See
  ‘/home/biocbuild/bbs-3.20-bioc/meat/psygenet2r.Rcheck/00check.log’
for details.


Installation output

psygenet2r.Rcheck/00install.out

##############################################################################
##############################################################################
###
### Running command:
###
###   /home/biocbuild/bbs-3.20-bioc/R/bin/R CMD INSTALL psygenet2r
###
##############################################################################
##############################################################################


* installing to library ‘/home/biocbuild/bbs-3.20-bioc/R/site-library’
* installing *source* package ‘psygenet2r’ ...
** using staged installation
** R
** data
*** moving datasets to lazyload DB
** inst
** byte-compile and prepare package for lazy loading
** help
*** installing help indices
** building package indices
** installing vignettes
** testing if installed package can be loaded from temporary location
** testing if installed package can be loaded from final location
** testing if installed package keeps a record of temporary installation path
* DONE (psygenet2r)

Tests output

psygenet2r.Rcheck/tests/testthat.Rout


R version 4.4.0 RC (2024-04-16 r86468) -- "Puppy Cup"
Copyright (C) 2024 The R Foundation for Statistical Computing
Platform: x86_64-pc-linux-gnu

R is free software and comes with ABSOLUTELY NO WARRANTY.
You are welcome to redistribute it under certain conditions.
Type 'license()' or 'licence()' for distribution details.

R is a collaborative project with many contributors.
Type 'contributors()' for more information and
'citation()' on how to cite R or R packages in publications.

Type 'demo()' for some demos, 'help()' for on-line help, or
'help.start()' for an HTML browser interface to help.
Type 'q()' to quit R.

> library(testthat)
> library(psygenet2r)
> 
> test_check("psygenet2r")
[ FAIL 0 | WARN 0 | SKIP 4 | PASS 18 ]

══ Skipped tests (4) ═══════════════════════════════════════════════════════════
• empty test (4): 'test_basic_disease.R:20:1', 'test_basic_disease.R:25:1',
  'test_basic_gene.R:18:1', 'test_basic_gene.R:22:1'

[ FAIL 0 | WARN 0 | SKIP 4 | PASS 18 ]
> 
> proc.time()
   user  system elapsed 
  6.106   0.626  77.303 

Example timings

psygenet2r.Rcheck/psygenet2r-Ex.timings

nameusersystemelapsed
JaccardIndexPsy-class0.1230.1115.142
enrichedPD-methods0.1250.0257.965
extract0.0050.0000.005
extractSentences0.0030.0000.004
getUMLs-methods0.0200.0082.991
jaccardEstimation-methods0.0710.0163.800
ndisease0.0010.0000.001
ngene0.0010.0000.001
pantherGraphic-methods0.2820.0246.057
plot-DataGeNET.Psy-ANY-method0.0710.0080.079
plot-JaccardIndexPsy-ANY-method0.0010.0000.001
psygenetDisease-methods0.0450.0095.314
psygenetDiseaseSentences0.0340.0113.484
psygenetGene-methods0.0540.0123.701
psygenetGeneSentences 0.255 0.02627.896
qr000
topAnatEnrichment-methods000
universe0.0040.0000.003