Index of /checkResults/devel/bioc-LATEST/profileScoreDist/raw-results/nebbiolo2

[ICO]NameLast modifiedSizeDescription

[DIR]Parent Directory  -  
[TXT]buildsrc-out.txt22-Jun-2024 00:35 896  
[   ]buildsrc-summary.dcf22-Jun-2024 00:35 450  
[TXT]checksrc-out.txt22-Jun-2024 00:35 3.5K 
[   ]checksrc-summary.dcf22-Jun-2024 00:35 449  
[TXT]install-out.txt22-Jun-2024 00:35 2.1K 
[   ]install-summary.dcf22-Jun-2024 00:35 277