Index of /checkResults/devel/bioc-LATEST/profileScoreDist/raw-results/lconway

[ICO]NameLast modifiedSizeDescription

[DIR]Parent Directory  -  
[TXT]buildbin-out.txt24-Jul-2024 00:41 4.8K 
[   ]buildbin-summary.dcf24-Jul-2024 00:41 584  
[TXT]buildsrc-out.txt24-Jul-2024 00:41 882  
[   ]buildsrc-summary.dcf24-Jul-2024 00:41 454  
[TXT]checksrc-out.txt24-Jul-2024 00:41 3.6K 
[   ]checksrc-summary.dcf24-Jul-2024 00:41 479  
[TXT]install-out.txt24-Jul-2024 00:41 2.6K 
[   ]install-summary.dcf24-Jul-2024 00:41 287