Index of /checkResults/devel/bioc-LATEST/profileScoreDist/raw-results/kunpeng2

[ICO]NameLast modifiedSizeDescription

[DIR]Parent Directory  -  
[TXT]buildsrc-out.txt16-May-2024 02:46 883  
[   ]buildsrc-summary.dcf16-May-2024 02:46 455  
[TXT]checksrc-out.txt16-May-2024 02:46 3.6K 
[   ]checksrc-summary.dcf16-May-2024 02:46 486  
[TXT]install-out.txt16-May-2024 02:46 2.2K 
[   ]install-summary.dcf16-May-2024 02:46 288