Index of /checkResults/devel/bioc-LATEST/profileScoreDist/raw-results/kjohnson3

[ICO]NameLast modifiedSizeDescription

[DIR]Parent Directory  -  
[TXT]buildsrc-out.txt23-Jul-2024 01:46 1.5K 
[   ]buildsrc-summary.dcf23-Jul-2024 01:46 360  
[TXT]install-out.txt23-Jul-2024 01:46 2.5K 
[   ]install-summary.dcf23-Jul-2024 01:46 286