Back to Multiple platform build/check report for BioC 3.14
ABCDEFGHIJKLMNO[P]QRSTUVWXYZ

This page was generated on 2021-09-25 12:06:13 -0400 (Sat, 25 Sep 2021).

INSTALL results for proActiv on merida1

To the developers/maintainers of the proActiv package:
- Please allow up to 24 hours (and sometimes 48 hours) for your latest push to git@git.bioconductor.org:packages/proActiv.git to
reflect on this report. See How and When does the builder pull? When will my changes propagate? here for more information.
- Make sure to use the following settings in order to reproduce any error or warning you see on this page.

raw results

Package 1421/2034HostnameOS / ArchINSTALLBUILDCHECKBUILD BIN
proActiv 1.3.4  (landing page)
Joseph Lee
Snapshot Date: 2021-09-24 14:50:08 -0400 (Fri, 24 Sep 2021)
git_url: https://git.bioconductor.org/packages/proActiv
git_branch: master
git_last_commit: a0df319
git_last_commit_date: 2021-06-23 06:28:09 -0400 (Wed, 23 Jun 2021)
nebbiolo2Linux (Ubuntu 20.04.2 LTS) / x86_64  OK    OK    OK  UNNEEDED, same version is already published
riesling1Windows Server 2019 Standard / x64  OK    OK    OK    OK  UNNEEDED, same version is already published
merida1macOS 10.14.6 Mojave / x86_64  OK    OK    OK    OK  UNNEEDED, same version is already published

Summary

Package: proActiv
Version: 1.3.4
Command: /Library/Frameworks/R.framework/Resources/bin/R CMD INSTALL proActiv
StartedAt: 2021-09-24 17:42:20 -0400 (Fri, 24 Sep 2021)
EndedAt: 2021-09-24 17:43:04 -0400 (Fri, 24 Sep 2021)
EllapsedTime: 43.4 seconds
RetCode: 0
Status:   OK  

Command output

##############################################################################
##############################################################################
###
### Running command:
###
###   /Library/Frameworks/R.framework/Resources/bin/R CMD INSTALL proActiv
###
##############################################################################
##############################################################################


* installing to library ‘/Library/Frameworks/R.framework/Versions/4.1/Resources/library’
* installing *source* package ‘proActiv’ ...
** using staged installation
** R
** data
*** moving datasets to lazyload DB
** inst
** byte-compile and prepare package for lazy loading
** help
*** installing help indices
*** copying figures
** building package indices
** installing vignettes
** testing if installed package can be loaded from temporary location
** testing if installed package can be loaded from final location
** testing if installed package keeps a record of temporary installation path
* DONE (proActiv)