Index of /checkResults/devel/bioc-LATEST/primirTSS/raw-results/nebbiolo2

[ICO]NameLast modifiedSizeDescription

[DIR]Parent Directory  -  
[TXT]buildsrc-out.txt19-Jul-2024 00:39 878  
[   ]buildsrc-summary.dcf19-Jul-2024 00:39 429  
[TXT]checksrc-out.txt19-Jul-2024 00:39 5.8K 
[   ]checksrc-summary.dcf19-Jul-2024 00:39 428  
[TXT]install-out.txt19-Jul-2024 00:39 1.3K 
[   ]install-summary.dcf19-Jul-2024 00:39 263