Index of /checkResults/devel/bioc-LATEST/primirTSS/raw-results/lconway

[ICO]NameLast modifiedSizeDescription

[DIR]Parent Directory  -  
[TXT]buildbin-out.txt19-Jul-2024 00:41 1.6K 
[   ]buildbin-summary.dcf19-Jul-2024 00:41 542  
[TXT]buildsrc-out.txt19-Jul-2024 00:41 864  
[   ]buildsrc-summary.dcf19-Jul-2024 00:41 433  
[TXT]checksrc-out.txt19-Jul-2024 00:41 5.9K 
[   ]checksrc-summary.dcf19-Jul-2024 00:41 458  
[TXT]install-out.txt19-Jul-2024 00:41 1.4K 
[   ]install-summary.dcf19-Jul-2024 00:41 273