Index of /checkResults/devel/bioc-LATEST/primirTSS/raw-results/kjohnson3

[ICO]NameLast modifiedSizeDescription

[DIR]Parent Directory  -  
[TXT]buildbin-out.txt19-Jul-2024 00:42 1.6K 
[   ]buildbin-summary.dcf19-Jul-2024 00:42 542  
[TXT]buildsrc-out.txt19-Jul-2024 00:42 864  
[   ]buildsrc-summary.dcf19-Jul-2024 00:42 433  
[TXT]checksrc-out.txt19-Jul-2024 00:42 5.9K 
[   ]checksrc-summary.dcf19-Jul-2024 00:42 458  
[TXT]install-out.txt19-Jul-2024 00:42 1.4K 
[   ]install-summary.dcf19-Jul-2024 00:42 273