Back to Multiple platform build/check report for BioC 3.14
ABCDEFGHIJKLMNO[P]QRSTUVWXYZ

This page was generated on 2021-06-22 12:06:08 -0400 (Tue, 22 Jun 2021).

BUILD results for ppiStats on riesling1

To the developers/maintainers of the ppiStats package:
- Please allow up to 24 hours (and sometimes 48 hours) for your latest push to git@git.bioconductor.org:packages/ppiStats.git to
reflect on this report. See How and When does the builder pull? When will my changes propagate? here for more information.
- Make sure to use the following settings in order to reproduce any error or warning you see on this page.

raw results

Package 1385/1993HostnameOS / ArchINSTALLBUILDCHECKBUILD BIN
ppiStats 1.59.0  (landing page)
Bioconductor Package Maintainer
Snapshot Date: 2021-06-21 14:50:06 -0400 (Mon, 21 Jun 2021)
URL: https://git.bioconductor.org/packages/ppiStats
Branch: master
Last Commit: 4917bca
Last Changed Date: 2021-05-19 11:38:18 -0400 (Wed, 19 May 2021)
nebbiolo2Linux (Ubuntu 20.04.2 LTS) / x86_64  OK    OK    OK  UNNEEDED, same version is already published
riesling1Windows Server 2019 Standard / x64  OK    OK    OK    OK  NO, package depends on 'ScISI' which is not available
merida1macOS 10.14.6 Mojave / x86_64  OK    OK    OK    OK  UNNEEDED, same version is already published

Summary

Package: ppiStats
Version: 1.59.0
Command: chmod a+r ppiStats -R && D:\biocbuild\bbs-3.14-bioc\R\bin\R.exe CMD build --keep-empty-dirs --no-resave-data ppiStats
StartedAt: 2021-06-21 21:24:35 -0400 (Mon, 21 Jun 2021)
EndedAt: 2021-06-21 21:27:00 -0400 (Mon, 21 Jun 2021)
EllapsedTime: 144.7 seconds
RetCode: 0
Status:   OK  
PackageFile: ppiStats_1.59.0.tar.gz
PackageFileSize: 1.284 MiB

Command output

##############################################################################
##############################################################################
###
### Running command:
###
###   chmod a+r ppiStats -R && D:\biocbuild\bbs-3.14-bioc\R\bin\R.exe CMD build --keep-empty-dirs --no-resave-data ppiStats
###
##############################################################################
##############################################################################


* checking for file 'ppiStats/DESCRIPTION' ... OK
* preparing 'ppiStats':
* checking DESCRIPTION meta-information ... OK
* installing the package to build vignettes
* creating vignettes ... OK
* checking for LF line-endings in source and make files and shell scripts
* checking for empty or unneeded directories
* building 'ppiStats_1.59.0.tar.gz'