Back to Multiple platform build/check report for BioC 3.14
ABCDEFGHIJKLMNO[P]QRSTUVWXYZ

BUILD BIN results for ppiStats on riesling1

This page was generated on 2021-06-16 12:05:11 -0400 (Wed, 16 Jun 2021).

Package 1385/1993HostnameOS / ArchINSTALLBUILDCHECKBUILD BIN
ppiStats 1.59.0  (landing page)
Bioconductor Package Maintainer
Snapshot Date: 2021-06-15 14:50:06 -0400 (Tue, 15 Jun 2021)
URL: https://git.bioconductor.org/packages/ppiStats
Branch: master
Last Commit: 4917bca
Last Changed Date: 2021-05-19 11:38:18 -0400 (Wed, 19 May 2021)
nebbiolo2Linux (Ubuntu 20.04.2 LTS) / x86_64  OK    OK    OK  UNNEEDED, same version is already published
riesling1Windows Server 2019 Standard / x64  OK    OK    OK    OK  NO, package depends on 'ScISI' which is not available
merida1macOS 10.14.6 Mojave / x86_64  OK    OK    OK    OK  UNNEEDED, same version is already published
To the developers/maintainers of the ppiStats package:
- Please allow up to 24 hours (and sometimes 48 hours) for your latest push to git@git.bioconductor.org:packages/ppiStats.git to
reflect on this report. See How and When does the builder pull? When will my changes propagate? here for more information.
- Make sure to use the following settings in order to reproduce any error or warning you see on this page.

Summary

Package: ppiStats
Version: 1.59.0
Command: rm -rf ppiStats.buildbin-libdir && mkdir ppiStats.buildbin-libdir && D:\biocbuild\bbs-3.14-bioc\R\bin\R.exe CMD INSTALL --merge-multiarch --build --library=ppiStats.buildbin-libdir ppiStats_1.59.0.tar.gz
StartedAt: 2021-06-16 04:59:22 -0400 (Wed, 16 Jun 2021)
EndedAt: 2021-06-16 05:03:11 -0400 (Wed, 16 Jun 2021)
EllapsedTime: 229.0 seconds
RetCode: 0
Status:   OK   
PackageFile: ppiStats_1.59.0.zip
PackageFileSize: 1.395 MiB

Command output

##############################################################################
##############################################################################
###
### Running command:
###
###   rm -rf ppiStats.buildbin-libdir && mkdir ppiStats.buildbin-libdir && D:\biocbuild\bbs-3.14-bioc\R\bin\R.exe CMD INSTALL --merge-multiarch --build --library=ppiStats.buildbin-libdir ppiStats_1.59.0.tar.gz
###
##############################################################################
##############################################################################



install for i386

* installing *source* package 'ppiStats' ...
** using staged installation
** R
** inst
** byte-compile and prepare package for lazy loading
** help
*** installing help indices
  converting help for package 'ppiStats'
    finding HTML links ... done
    assessSymmetry                          html  
    bpMatrix                                html  
    calcInOutDegStats                       html  
    createSummaryTables                     html  
    degreeEstimates                         html  
    estErrProbMethodOfMoments               html  
    estimateCCMErrorRates                   html  
    estimatePPIErrorRates                   html  
    findAdjacent                            html  
    genBPGraph                              html  
    hgParams                                html  
    hgTests                                 html  
    idProteinErrorType                      html  
    idProteinType                           html  
    inOutScatterCharts                      html  
    nullDistDoublyTestedEdges               html  
    separateExptBySize                      html  
    twPERM                                  html  
    viabilityCharts                         html  
** building package indices
** installing vignettes
** testing if installed package can be loaded from temporary location
** testing if installed package can be loaded from final location
** testing if installed package keeps a record of temporary installation path

install for x64

* installing *source* package 'ppiStats' ...
** testing if installed package can be loaded
* MD5 sums
packaged installation of 'ppiStats' as ppiStats_1.59.0.zip
* DONE (ppiStats)