Back to Multiple platform build/check report for BioC 3.14
ABCDEFGHIJKLMNO[P]QRSTUVWXYZ

This page was generated on 2021-06-24 12:05:02 -0400 (Thu, 24 Jun 2021).

All results for package ppiStats

To the developers/maintainers of the ppiStats package:
- Please allow up to 24 hours (and sometimes 48 hours) for your latest push to git@git.bioconductor.org:packages/ppiStats.git to
reflect on this report. See How and When does the builder pull? When will my changes propagate? here for more information.
- Make sure to use the following settings in order to reproduce any error or warning you see on this page.

raw results

Package 1385/1993HostnameOS / ArchINSTALLBUILDCHECKBUILD BIN
ppiStats 1.59.0  (landing page)
Bioconductor Package Maintainer
Snapshot Date: 2021-06-23 14:50:10 -0400 (Wed, 23 Jun 2021)
URL: https://git.bioconductor.org/packages/ppiStats
Branch: master
Last Commit: 4917bca
Last Changed Date: 2021-05-19 11:38:18 -0400 (Wed, 19 May 2021)
nebbiolo2Linux (Ubuntu 20.04.2 LTS) / x86_64  OK    OK    OK  UNNEEDED, same version is already published
riesling1Windows Server 2019 Standard / x64  OK    OK    OK    OK  NO, package depends on 'ScISI' which is not available
merida1macOS 10.14.6 Mojave / x86_64  OK    OK    OK    OK  UNNEEDED, same version is already published