Index of /checkResults/devel/bioc-LATEST/pmp/raw-results/nebbiolo2

[ICO]NameLast modifiedSizeDescription

[DIR]Parent Directory  -  
[TXT]buildsrc-out.txt16-Jul-2024 00:39 814  
[   ]buildsrc-summary.dcf16-Jul-2024 00:39 411  
[TXT]checksrc-out.txt16-Jul-2024 00:39 3.3K 
[   ]checksrc-summary.dcf16-Jul-2024 00:39 398  
[TXT]install-out.txt16-Jul-2024 00:39 1.0K 
[   ]install-summary.dcf16-Jul-2024 00:39 251