Index of /checkResults/devel/bioc-LATEST/pmp/raw-results/lconway

[ICO]NameLast modifiedSizeDescription

[DIR]Parent Directory  -  
[TXT]buildbin-out.txt18-Jul-2024 00:41 1.2K 
[   ]buildbin-summary.dcf18-Jul-2024 00:41 506  
[TXT]buildsrc-out.txt18-Jul-2024 00:41 800  
[   ]buildsrc-summary.dcf18-Jul-2024 00:41 415  
[TXT]checksrc-out.txt18-Jul-2024 00:41 3.3K 
[   ]checksrc-summary.dcf18-Jul-2024 00:41 428  
[TXT]install-out.txt18-Jul-2024 00:41 1.0K 
[   ]install-summary.dcf18-Jul-2024 00:41 261