Index of /checkResults/devel/bioc-LATEST/pmp/raw-results/kjohnson3

[ICO]NameLast modifiedSizeDescription

[DIR]Parent Directory  -  
[TXT]buildbin-out.txt23-Jul-2024 01:46 1.2K 
[   ]buildbin-summary.dcf23-Jul-2024 01:46 506  
[TXT]buildsrc-out.txt23-Jul-2024 01:46 800  
[   ]buildsrc-summary.dcf23-Jul-2024 01:46 415  
[TXT]checksrc-out.txt23-Jul-2024 01:46 3.9K 
[   ]checksrc-summary.dcf23-Jul-2024 01:46 431  
[TXT]install-out.txt23-Jul-2024 01:46 1.0K 
[   ]install-summary.dcf23-Jul-2024 01:46 260