Index of /checkResults/devel/bioc-LATEST/plasmut/raw-results/nebbiolo2

[ICO]NameLast modifiedSizeDescription

[DIR]Parent Directory  -  
[TXT]buildsrc-out.txt16-Jul-2024 00:39 892  
[   ]buildsrc-summary.dcf16-Jul-2024 00:39 420  
[TXT]checksrc-out.txt16-Jul-2024 00:39 3.2K 
[   ]checksrc-summary.dcf16-Jul-2024 00:39 412  
[TXT]install-out.txt16-Jul-2024 00:39 960  
[   ]install-summary.dcf16-Jul-2024 00:39 257