Index of /checkResults/devel/bioc-LATEST/plasmut/raw-results/kjohnson3

[ICO]NameLast modifiedSizeDescription

[DIR]Parent Directory  -  
[TXT]buildbin-out.txt18-Jul-2024 00:42 1.1K 
[   ]buildbin-summary.dcf18-Jul-2024 00:42 526  
[TXT]buildsrc-out.txt18-Jul-2024 00:42 878  
[   ]buildsrc-summary.dcf18-Jul-2024 00:42 425  
[TXT]checksrc-out.txt18-Jul-2024 00:42 3.3K 
[   ]checksrc-summary.dcf18-Jul-2024 00:42 441  
[TXT]install-out.txt18-Jul-2024 00:42 1.0K 
[   ]install-summary.dcf18-Jul-2024 00:42 267