Back to Multiple platform build/check report for BioC 3.14
ABCDEFGHIJKLMNO[P]QRSTUVWXYZ

INSTALL results for pkgDepTools on riesling1

This page was generated on 2021-06-12 12:05:13 -0400 (Sat, 12 Jun 2021).

Package 1364/1993HostnameOS / ArchINSTALLBUILDCHECKBUILD BIN
pkgDepTools 1.59.0  (landing page)
Bioconductor Package Maintainer
Snapshot Date: 2021-06-11 14:50:09 -0400 (Fri, 11 Jun 2021)
URL: https://git.bioconductor.org/packages/pkgDepTools
Branch: master
Last Commit: bebedff
Last Changed Date: 2021-05-19 11:38:05 -0400 (Wed, 19 May 2021)
nebbiolo2Linux (Ubuntu 20.04.2 LTS) / x86_64  OK    OK    OK  UNNEEDED, same version is already published
riesling1Windows Server 2019 Standard / x64  OK    OK    OK    OK  UNNEEDED, same version is already published
merida1macOS 10.14.6 Mojave / x86_64  OK    OK    OK    OK  UNNEEDED, same version is already published
To the developers/maintainers of the pkgDepTools package:
- Please allow up to 24 hours (and sometimes 48 hours) for your latest push to git@git.bioconductor.org:packages/pkgDepTools.git to
reflect on this report. See How and When does the builder pull? When will my changes propagate? here for more information.
- Make sure to use the following settings in order to reproduce any error or warning you see on this page.

Summary

Package: pkgDepTools
Version: 1.59.0
Command: C:\cygwin\bin\curl.exe -O http://155.52.207.166/BBS/3.14/bioc/src/contrib/pkgDepTools_1.59.0.tar.gz && rm -rf pkgDepTools.buildbin-libdir && mkdir pkgDepTools.buildbin-libdir && D:\biocbuild\bbs-3.14-bioc\R\bin\R.exe CMD INSTALL --merge-multiarch --build --library=pkgDepTools.buildbin-libdir pkgDepTools_1.59.0.tar.gz && D:\biocbuild\bbs-3.14-bioc\R\bin\R.exe CMD INSTALL pkgDepTools_1.59.0.zip && rm pkgDepTools_1.59.0.tar.gz pkgDepTools_1.59.0.zip
StartedAt: 2021-06-11 16:39:42 -0400 (Fri, 11 Jun 2021)
EndedAt: 2021-06-11 16:42:04 -0400 (Fri, 11 Jun 2021)
EllapsedTime: 141.4 seconds
RetCode: 0
Status:   OK   

Command output

##############################################################################
##############################################################################
###
### Running command:
###
###   C:\cygwin\bin\curl.exe -O http://155.52.207.166/BBS/3.14/bioc/src/contrib/pkgDepTools_1.59.0.tar.gz && rm -rf pkgDepTools.buildbin-libdir && mkdir pkgDepTools.buildbin-libdir && D:\biocbuild\bbs-3.14-bioc\R\bin\R.exe CMD INSTALL --merge-multiarch --build --library=pkgDepTools.buildbin-libdir pkgDepTools_1.59.0.tar.gz && D:\biocbuild\bbs-3.14-bioc\R\bin\R.exe CMD INSTALL pkgDepTools_1.59.0.zip && rm pkgDepTools_1.59.0.tar.gz pkgDepTools_1.59.0.zip
###
##############################################################################
##############################################################################


  % Total    % Received % Xferd  Average Speed   Time    Time     Time  Current
                                 Dload  Upload   Total   Spent    Left  Speed

  0     0    0     0    0     0      0      0 --:--:-- --:--:-- --:--:--     0
100  7555  100  7555    0     0  81236      0 --:--:-- --:--:-- --:--:-- 81236

install for i386

* installing *source* package 'pkgDepTools' ...
** using staged installation
** R
** byte-compile and prepare package for lazy loading
** help
*** installing help indices
  converting help for package 'pkgDepTools'
    finding HTML links ... done
    basicInstallOrder                       html  
    cleanPkgField                           html  
    getDownloadSize                         html  
    getInstallOrder                         html  
    makeDepGraph                            html  
    makePkgUrl                              html  
    parseContentLength                      html  
    pkgDepTools-package                     html  
** building package indices
** installing vignettes
** testing if installed package can be loaded from temporary location
** testing if installed package can be loaded from final location
** testing if installed package keeps a record of temporary installation path

install for x64

* installing *source* package 'pkgDepTools' ...
** testing if installed package can be loaded
* MD5 sums
packaged installation of 'pkgDepTools' as pkgDepTools_1.59.0.zip
* DONE (pkgDepTools)
* installing to library 'D:/biocbuild/bbs-3.14-bioc/R/library'
package 'pkgDepTools' successfully unpacked and MD5 sums checked