Back to Multiple platform build/check report for BioC 3.14
ABCDEFGHIJKLMNO[P]QRSTUVWXYZ

This page was generated on 2021-09-25 12:05:41 -0400 (Sat, 25 Sep 2021).

BUILD BIN results for pkgDepTools on riesling1

To the developers/maintainers of the pkgDepTools package:
- Please allow up to 24 hours (and sometimes 48 hours) for your latest push to git@git.bioconductor.org:packages/pkgDepTools.git to
reflect on this report. See How and When does the builder pull? When will my changes propagate? here for more information.
- Make sure to use the following settings in order to reproduce any error or warning you see on this page.

raw results

Package 1388/2034HostnameOS / ArchINSTALLBUILDCHECKBUILD BIN
pkgDepTools 1.59.0  (landing page)
Bioconductor Package Maintainer
Snapshot Date: 2021-09-24 14:50:08 -0400 (Fri, 24 Sep 2021)
git_url: https://git.bioconductor.org/packages/pkgDepTools
git_branch: master
git_last_commit: bebedff
git_last_commit_date: 2021-05-19 11:38:05 -0400 (Wed, 19 May 2021)
nebbiolo2Linux (Ubuntu 20.04.2 LTS) / x86_64  OK    OK    OK  UNNEEDED, same version is already published
riesling1Windows Server 2019 Standard / x64  OK    OK    OK    OK  UNNEEDED, same version is already published
merida1macOS 10.14.6 Mojave / x86_64  OK    OK    OK    OK  UNNEEDED, same version is already published

Summary

Package: pkgDepTools
Version: 1.59.0
Command: rm -rf pkgDepTools.buildbin-libdir && mkdir pkgDepTools.buildbin-libdir && D:\biocbuild\bbs-3.14-bioc\R\bin\R.exe CMD INSTALL --merge-multiarch --build --library=pkgDepTools.buildbin-libdir pkgDepTools_1.59.0.tar.gz
StartedAt: 2021-09-25 07:13:05 -0400 (Sat, 25 Sep 2021)
EndedAt: 2021-09-25 07:17:48 -0400 (Sat, 25 Sep 2021)
EllapsedTime: 283.5 seconds
RetCode: 0
Status:   OK  
PackageFile: pkgDepTools_1.59.0.zip
PackageFileSize: 219 KiB

Command output

##############################################################################
##############################################################################
###
### Running command:
###
###   rm -rf pkgDepTools.buildbin-libdir && mkdir pkgDepTools.buildbin-libdir && D:\biocbuild\bbs-3.14-bioc\R\bin\R.exe CMD INSTALL --merge-multiarch --build --library=pkgDepTools.buildbin-libdir pkgDepTools_1.59.0.tar.gz
###
##############################################################################
##############################################################################



install for i386

* installing *source* package 'pkgDepTools' ...
** using staged installation
** R
** inst
** byte-compile and prepare package for lazy loading
** help
*** installing help indices
  converting help for package 'pkgDepTools'
    finding HTML links ... done
    basicInstallOrder                       html  
    cleanPkgField                           html  
    getDownloadSize                         html  
    getInstallOrder                         html  
    makeDepGraph                            html  
    makePkgUrl                              html  
    parseContentLength                      html  
    pkgDepTools-package                     html  
** building package indices
** installing vignettes
** testing if installed package can be loaded from temporary location
** testing if installed package can be loaded from final location
** testing if installed package keeps a record of temporary installation path

install for x64

* installing *source* package 'pkgDepTools' ...
** testing if installed package can be loaded
* MD5 sums
packaged installation of 'pkgDepTools' as pkgDepTools_1.59.0.zip
* DONE (pkgDepTools)