Back to Multiple platform build/check report for BioC 3.14
ABCDEFGHIJKLMNO[P]QRSTUVWXYZ

All results for package phantasus

This page was generated on 2021-06-14 12:03:43 -0400 (Mon, 14 Jun 2021).

Package 1343/1993HostnameOS / ArchINSTALLBUILDCHECKBUILD BIN
phantasus 1.13.0  (landing page)
Alexey Sergushichev
Snapshot Date: 2021-06-13 14:50:05 -0400 (Sun, 13 Jun 2021)
URL: https://git.bioconductor.org/packages/phantasus
Branch: master
Last Commit: c7903d1
Last Changed Date: 2021-05-19 12:34:17 -0400 (Wed, 19 May 2021)
nebbiolo2Linux (Ubuntu 20.04.2 LTS) / x86_64  OK    OK    OK  UNNEEDED, same version is already published
riesling1Windows Server 2019 Standard / x64  OK    OK    OK    OK  UNNEEDED, same version is already published
merida1macOS 10.14.6 Mojave / x86_64  OK    OK    OK    OK  UNNEEDED, same version is already published