Index of /checkResults/devel/bioc-LATEST/pengls/raw-results/nebbiolo2

[ICO]NameLast modifiedSizeDescription

[DIR]Parent Directory  -  
[TXT]buildsrc-out.txt12-Jul-2024 00:59 826  
[   ]buildsrc-summary.dcf12-Jul-2024 00:59 421  
[TXT]checksrc-out.txt12-Jul-2024 00:59 3.2K 
[   ]checksrc-summary.dcf12-Jul-2024 00:59 410  
[TXT]install-out.txt12-Jul-2024 00:59 949  
[   ]install-summary.dcf12-Jul-2024 00:59 256