Index of /checkResults/devel/bioc-LATEST/pengls/raw-results/kjohnson3

[ICO]NameLast modifiedSizeDescription

[DIR]Parent Directory  -  
[TXT]buildbin-out.txt14-Jul-2024 00:43 1.1K 
[   ]buildbin-summary.dcf14-Jul-2024 00:43 523  
[TXT]buildsrc-out.txt14-Jul-2024 00:43 812  
[   ]buildsrc-summary.dcf14-Jul-2024 00:43 424  
[TXT]checksrc-out.txt14-Jul-2024 00:43 3.2K 
[   ]checksrc-summary.dcf14-Jul-2024 00:43 440  
[TXT]install-out.txt14-Jul-2024 00:43 1.0K 
[   ]install-summary.dcf14-Jul-2024 00:43 266