Back to Multiple platform build/check report for BioC 3.14
ABCDEFGHIJKLMNO[P]QRSTUVWXYZ

BUILD results for pathview on riesling1

This page was generated on 2021-06-16 12:05:10 -0400 (Wed, 16 Jun 2021).

Package 1321/1993HostnameOS / ArchINSTALLBUILDCHECKBUILD BIN
pathview 1.33.0  (landing page)
Weijun Luo
Snapshot Date: 2021-06-15 14:50:06 -0400 (Tue, 15 Jun 2021)
URL: https://git.bioconductor.org/packages/pathview
Branch: master
Last Commit: 5cac050
Last Changed Date: 2021-05-19 11:58:02 -0400 (Wed, 19 May 2021)
nebbiolo2Linux (Ubuntu 20.04.2 LTS) / x86_64  OK    OK    WARNINGS  UNNEEDED, same version is already published
riesling1Windows Server 2019 Standard / x64  OK    OK    WARNINGS    OK  NO, package depends on 'KEGGgraph' which is not available
merida1macOS 10.14.6 Mojave / x86_64  OK    OK    WARNINGS    OK  UNNEEDED, same version is already published
To the developers/maintainers of the pathview package:
- Please allow up to 24 hours (and sometimes 48 hours) for your latest push to git@git.bioconductor.org:packages/pathview.git to
reflect on this report. See How and When does the builder pull? When will my changes propagate? here for more information.
- Make sure to use the following settings in order to reproduce any error or warning you see on this page.

Summary

Package: pathview
Version: 1.33.0
Command: chmod a+r pathview -R && D:\biocbuild\bbs-3.14-bioc\R\bin\R.exe CMD build --keep-empty-dirs --no-resave-data pathview
StartedAt: 2021-06-15 21:12:38 -0400 (Tue, 15 Jun 2021)
EndedAt: 2021-06-15 21:15:58 -0400 (Tue, 15 Jun 2021)
EllapsedTime: 200.0 seconds
RetCode: 0
Status:   OK   
PackageFile: pathview_1.33.0.tar.gz
PackageFileSize: 2.025 MiB

Command output

##############################################################################
##############################################################################
###
### Running command:
###
###   chmod a+r pathview -R && D:\biocbuild\bbs-3.14-bioc\R\bin\R.exe CMD build --keep-empty-dirs --no-resave-data pathview
###
##############################################################################
##############################################################################


* checking for file 'pathview/DESCRIPTION' ... OK
* preparing 'pathview':
* checking DESCRIPTION meta-information ... OK
* installing the package to build vignettes
* creating vignettes ... OK
* checking for LF line-endings in source and make files and shell scripts
* checking for empty or unneeded directories
  NB: this package now depends on R (>= 3.5.0)
  WARNING: Added dependency on R >= 3.5.0 because serialized objects in
  serialize/load version 3 cannot be read in older versions of R.
  File(s) containing such objects:
    'pathview/data/korg.rda'
* building 'pathview_1.33.0.tar.gz'