Back to Multiple platform build/check report for BioC 3.14
ABCDEFGHIJKLMNO[P]QRSTUVWXYZ

This page was generated on 2021-07-24 12:06:41 -0400 (Sat, 24 Jul 2021).

BUILD BIN results for pathview on merida1

To the developers/maintainers of the pathview package:
- Please allow up to 24 hours (and sometimes 48 hours) for your latest push to git@git.bioconductor.org:packages/pathview.git to
reflect on this report. See How and When does the builder pull? When will my changes propagate? here for more information.
- Make sure to use the following settings in order to reproduce any error or warning you see on this page.

raw results

Package 1332/2008HostnameOS / ArchINSTALLBUILDCHECKBUILD BIN
pathview 1.33.0  (landing page)
Weijun Luo
Snapshot Date: 2021-07-23 14:50:08 -0400 (Fri, 23 Jul 2021)
URL: https://git.bioconductor.org/packages/pathview
Branch: master
Last Commit: 5cac050
Last Changed Date: 2021-05-19 11:58:02 -0400 (Wed, 19 May 2021)
nebbiolo2Linux (Ubuntu 20.04.2 LTS) / x86_64  OK    OK    WARNINGS  UNNEEDED, same version is already published
riesling1Windows Server 2019 Standard / x64  OK    OK    WARNINGS    OK  NO, package depends on 'KEGGgraph' which is not available
merida1macOS 10.14.6 Mojave / x86_64  OK    OK    WARNINGS    OK  UNNEEDED, same version is already published

Summary

Package: pathview
Version: 1.33.0
Command: rm -rf pathview.buildbin-libdir && mkdir pathview.buildbin-libdir && /Users/biocbuild/BBS/utils/build-universal.sh pathview_1.33.0.tar.gz /Library/Frameworks/R.framework/Resources/bin/R pathview.buildbin-libdir
StartedAt: 2021-07-24 09:31:09 -0400 (Sat, 24 Jul 2021)
EndedAt: 2021-07-24 09:32:00 -0400 (Sat, 24 Jul 2021)
EllapsedTime: 51.6 seconds
RetCode: 0
Status:   OK  
PackageFile: pathview_1.33.0.tgz
PackageFileSize: 2.58 MiB

Command output

##############################################################################
##############################################################################
###
### Running command:
###
###   rm -rf pathview.buildbin-libdir && mkdir pathview.buildbin-libdir && /Users/biocbuild/BBS/utils/build-universal.sh pathview_1.33.0.tar.gz /Library/Frameworks/R.framework/Resources/bin/R pathview.buildbin-libdir
###
##############################################################################
##############################################################################


>>>>>>> 
>>>>>>> INSTALLATION WITH 'R CMD INSTALL --preclean --no-multiarch --library=pathview.buildbin-libdir pathview_1.33.0.tar.gz'
>>>>>>> 

* installing *source* package ‘pathview’ ...
** using staged installation
** R
** data
*** moving datasets to lazyload DB
** inst
** byte-compile and prepare package for lazy loading
** help
*** installing help indices
** building package indices
** installing vignettes
** testing if installed package can be loaded from temporary location
** testing if installed package can be loaded from final location
** testing if installed package keeps a record of temporary installation path
* DONE (pathview)