Back to Multiple platform build/check report for BioC 3.14
ABCDEFGHIJKLMNO[P]QRSTUVWXYZ

This page was generated on 2021-07-24 12:05:35 -0400 (Sat, 24 Jul 2021).

CHECK results for pathRender on nebbiolo2

To the developers/maintainers of the pathRender package:
- Please allow up to 24 hours (and sometimes 48 hours) for your latest push to git@git.bioconductor.org:packages/pathRender.git to
reflect on this report. See How and When does the builder pull? When will my changes propagate? here for more information.
- Make sure to use the following settings in order to reproduce any error or warning you see on this page.

raw results

Package 1330/2008HostnameOS / ArchINSTALLBUILDCHECKBUILD BIN
pathRender 1.61.0  (landing page)
Vince Carey
Snapshot Date: 2021-07-23 14:50:08 -0400 (Fri, 23 Jul 2021)
URL: https://git.bioconductor.org/packages/pathRender
Branch: master
Last Commit: 37524cb
Last Changed Date: 2021-05-19 11:36:44 -0400 (Wed, 19 May 2021)
nebbiolo2Linux (Ubuntu 20.04.2 LTS) / x86_64  OK    OK    OK  UNNEEDED, same version is already published
riesling1Windows Server 2019 Standard / x64  OK    OK    OK    OK  NO, package depends on 'Rgraphviz' which is not available
merida1macOS 10.14.6 Mojave / x86_64  OK    OK    OK    OK  UNNEEDED, same version is already published

Summary

Package: pathRender
Version: 1.61.0
Command: /home/biocbuild/bbs-3.14-bioc/R/bin/R CMD check --install=check:pathRender.install-out.txt --library=/home/biocbuild/bbs-3.14-bioc/R/library --no-vignettes --timings pathRender_1.61.0.tar.gz
StartedAt: 2021-07-23 20:37:33 -0400 (Fri, 23 Jul 2021)
EndedAt: 2021-07-23 20:40:52 -0400 (Fri, 23 Jul 2021)
EllapsedTime: 199.0 seconds
RetCode: 0
Status:   OK  
CheckDir: pathRender.Rcheck
Warnings: 0

Command output

##############################################################################
##############################################################################
###
### Running command:
###
###   /home/biocbuild/bbs-3.14-bioc/R/bin/R CMD check --install=check:pathRender.install-out.txt --library=/home/biocbuild/bbs-3.14-bioc/R/library --no-vignettes --timings pathRender_1.61.0.tar.gz
###
##############################################################################
##############################################################################


* using log directory ‘/home/biocbuild/bbs-3.14-bioc/meat/pathRender.Rcheck’
* using R version 4.1.0 beta (2021-05-03 r80259)
* using platform: x86_64-pc-linux-gnu (64-bit)
* using session charset: UTF-8
* using option ‘--no-vignettes’
* checking for file ‘pathRender/DESCRIPTION’ ... OK
* this is package ‘pathRender’ version ‘1.61.0’
* checking package namespace information ... OK
* checking package dependencies ... NOTE
Depends: includes the non-default packages:
  'graph', 'Rgraphviz', 'RColorBrewer', 'cMAP', 'AnnotationDbi',
  'stats4'
Adding so many packages to the search path is excessive and importing
selectively is preferable.
* checking if this is a source package ... OK
* checking if there is a namespace ... OK
* checking for hidden files and directories ... OK
* checking for portable file names ... OK
* checking for sufficient/correct file permissions ... OK
* checking whether package ‘pathRender’ can be installed ... OK
* checking installed package size ... OK
* checking package directory ... OK
* checking ‘build’ directory ... OK
* checking DESCRIPTION meta-information ... OK
* checking top-level files ... OK
* checking for left-over files ... OK
* checking index information ... OK
* checking package subdirectories ... OK
* checking R files for non-ASCII characters ... OK
* checking R files for syntax errors ... OK
* checking whether the package can be loaded ... OK
* checking whether the package can be loaded with stated dependencies ... OK
* checking whether the package can be unloaded cleanly ... OK
* checking whether the namespace can be loaded with stated dependencies ... OK
* checking whether the namespace can be unloaded cleanly ... OK
* checking dependencies in R code ... OK
* checking S3 generic/method consistency ... OK
* checking replacement functions ... OK
* checking foreign function calls ... OK
* checking R code for possible problems ... NOTE
graphcMAP: no visible binding for global variable ‘cMAPKEGGPATHWAY’
graphcMAP: no visible binding for global variable ‘cMAPCARTAPATHWAY’
graphcMAP: no visible binding for global variable ‘cMAPKEGGINTERACTION’
graphcMAP: no visible binding for global variable ‘cMAPKEGGMOLECULE’
graphcMAP: no visible binding for global variable
  ‘cMAPCARTAINTERACTION’
graphcMAP: no visible binding for global variable ‘cMAPCARTAMOLECULE’
plotExGraph: no visible global function definition for
  ‘colorRampPalette’
plotExGraph: no visible global function definition for ‘exprs’
quantizeByRow : <anonymous>: no visible global function definition for
  ‘quantile’
quantizeByRow: no visible global function definition for ‘featureNames’
quantizeByRow: no visible global function definition for ‘exprs<-’
quantizeByRow: no visible global function definition for ‘exprs’
quantizeByRow: no visible global function definition for
  ‘featureNames<-’
reduceES: no visible global function definition for ‘na.omit’
reduceES: no visible global function definition for ‘featureData<-’
reduceES: no visible global function definition for ‘exprs’
reduceES: no visible global function definition for ‘phenoData’
rendercMAPPathway: no visible binding for global variable
  ‘cMAPKEGGPATHWAY’
rendercMAPPathway: no visible binding for global variable
  ‘cMAPCARTAPATHWAY’
rendercMAPPathway: no visible binding for global variable
  ‘cMAPKEGGINTERACTION’
rendercMAPPathway: no visible binding for global variable
  ‘cMAPKEGGMOLECULE’
rendercMAPPathway: no visible binding for global variable
  ‘cMAPCARTAINTERACTION’
rendercMAPPathway: no visible binding for global variable
  ‘cMAPCARTAMOLECULE’
plot,coloredGraph-ANY: no visible global function definition for
  ‘palette’
Undefined global functions or variables:
  cMAPCARTAINTERACTION cMAPCARTAMOLECULE cMAPCARTAPATHWAY
  cMAPKEGGINTERACTION cMAPKEGGMOLECULE cMAPKEGGPATHWAY colorRampPalette
  exprs exprs<- featureData<- featureNames featureNames<- na.omit
  palette phenoData quantile
Consider adding
  importFrom("grDevices", "colorRampPalette", "palette")
  importFrom("stats", "na.omit", "quantile")
to your NAMESPACE file.
* checking Rd files ... OK
* checking Rd metadata ... OK
* checking Rd cross-references ... OK
* checking for missing documentation entries ... OK
* checking for code/documentation mismatches ... OK
* checking Rd \usage sections ... OK
* checking Rd contents ... OK
* checking for unstated dependencies in examples ... OK
* checking files in ‘vignettes’ ... OK
* checking examples ... OK
* checking for unstated dependencies in vignettes ... OK
* checking package vignettes in ‘inst/doc’ ... OK
* checking running R code from vignettes ... SKIPPED
* checking re-building of vignette outputs ... SKIPPED
* checking PDF version of manual ... OK
* DONE

Status: 2 NOTEs
See
  ‘/home/biocbuild/bbs-3.14-bioc/meat/pathRender.Rcheck/00check.log’
for details.



Installation output

pathRender.Rcheck/00install.out

##############################################################################
##############################################################################
###
### Running command:
###
###   /home/biocbuild/bbs-3.14-bioc/R/bin/R CMD INSTALL pathRender
###
##############################################################################
##############################################################################


* installing to library ‘/home/biocbuild/bbs-3.14-bioc/R/library’
* installing *source* package ‘pathRender’ ...
** using staged installation
** R
** inst
** byte-compile and prepare package for lazy loading
** help
*** installing help indices
** building package indices
** installing vignettes
** testing if installed package can be loaded from temporary location
** testing if installed package can be loaded from final location
** testing if installed package keeps a record of temporary installation path
* DONE (pathRender)

Tests output


Example timings

pathRender.Rcheck/pathRender-Ex.timings

nameusersystemelapsed
colorNodes0.7110.0041.455
coloredGraph-class0.2250.0000.449
graphcMAP1.0280.0081.479
plotExGraph2.6940.1283.022
pwayGraph-class0.0690.0040.074
reduceES1.6180.0561.675
rendercMAP0.2900.0280.317