Back to Multiple platform build/check report for BioC 3.14
ABCDEFGHIJKLMNO[P]QRSTUVWXYZ

This page was generated on 2021-07-24 12:05:35 -0400 (Sat, 24 Jul 2021).

BUILD results for pathRender on nebbiolo2

To the developers/maintainers of the pathRender package:
- Please allow up to 24 hours (and sometimes 48 hours) for your latest push to git@git.bioconductor.org:packages/pathRender.git to
reflect on this report. See How and When does the builder pull? When will my changes propagate? here for more information.
- Make sure to use the following settings in order to reproduce any error or warning you see on this page.

raw results

Package 1330/2008HostnameOS / ArchINSTALLBUILDCHECKBUILD BIN
pathRender 1.61.0  (landing page)
Vince Carey
Snapshot Date: 2021-07-23 14:50:08 -0400 (Fri, 23 Jul 2021)
URL: https://git.bioconductor.org/packages/pathRender
Branch: master
Last Commit: 37524cb
Last Changed Date: 2021-05-19 11:36:44 -0400 (Wed, 19 May 2021)
nebbiolo2Linux (Ubuntu 20.04.2 LTS) / x86_64  OK    OK    OK  UNNEEDED, same version is already published
riesling1Windows Server 2019 Standard / x64  OK    OK    OK    OK  NO, package depends on 'Rgraphviz' which is not available
merida1macOS 10.14.6 Mojave / x86_64  OK    OK    OK    OK  UNNEEDED, same version is already published

Summary

Package: pathRender
Version: 1.61.0
Command: /home/biocbuild/bbs-3.14-bioc/R/bin/R CMD build --keep-empty-dirs --no-resave-data pathRender
StartedAt: 2021-07-23 17:50:43 -0400 (Fri, 23 Jul 2021)
EndedAt: 2021-07-23 17:51:49 -0400 (Fri, 23 Jul 2021)
EllapsedTime: 66.5 seconds
RetCode: 0
Status:   OK  
PackageFile: pathRender_1.61.0.tar.gz
PackageFileSize: 180.6 KiB

Command output

##############################################################################
##############################################################################
###
### Running command:
###
###   /home/biocbuild/bbs-3.14-bioc/R/bin/R CMD build --keep-empty-dirs --no-resave-data pathRender
###
##############################################################################
##############################################################################


* checking for file ‘pathRender/DESCRIPTION’ ... OK
* preparing ‘pathRender’:
* checking DESCRIPTION meta-information ... OK
* installing the package to build vignettes
* creating vignettes ... OK
* checking for LF line-endings in source and make files and shell scripts
* checking for empty or unneeded directories
* building ‘pathRender_1.61.0.tar.gz’