Back to Multiple platform build/check report for BioC 3.14
ABCDEFGHIJKLMNO[P]QRSTUVWXYZ

This page was generated on 2021-07-24 12:06:41 -0400 (Sat, 24 Jul 2021).

BUILD BIN results for pathRender on merida1

To the developers/maintainers of the pathRender package:
- Please allow up to 24 hours (and sometimes 48 hours) for your latest push to git@git.bioconductor.org:packages/pathRender.git to
reflect on this report. See How and When does the builder pull? When will my changes propagate? here for more information.
- Make sure to use the following settings in order to reproduce any error or warning you see on this page.

raw results

Package 1330/2008HostnameOS / ArchINSTALLBUILDCHECKBUILD BIN
pathRender 1.61.0  (landing page)
Vince Carey
Snapshot Date: 2021-07-23 14:50:08 -0400 (Fri, 23 Jul 2021)
URL: https://git.bioconductor.org/packages/pathRender
Branch: master
Last Commit: 37524cb
Last Changed Date: 2021-05-19 11:36:44 -0400 (Wed, 19 May 2021)
nebbiolo2Linux (Ubuntu 20.04.2 LTS) / x86_64  OK    OK    OK  UNNEEDED, same version is already published
riesling1Windows Server 2019 Standard / x64  OK    OK    OK    OK  NO, package depends on 'Rgraphviz' which is not available
merida1macOS 10.14.6 Mojave / x86_64  OK    OK    OK    OK  UNNEEDED, same version is already published

Summary

Package: pathRender
Version: 1.61.0
Command: rm -rf pathRender.buildbin-libdir && mkdir pathRender.buildbin-libdir && /Users/biocbuild/BBS/utils/build-universal.sh pathRender_1.61.0.tar.gz /Library/Frameworks/R.framework/Resources/bin/R pathRender.buildbin-libdir
StartedAt: 2021-07-24 09:31:00 -0400 (Sat, 24 Jul 2021)
EndedAt: 2021-07-24 09:31:52 -0400 (Sat, 24 Jul 2021)
EllapsedTime: 51.6 seconds
RetCode: 0
Status:   OK  
PackageFile: pathRender_1.61.0.tgz
PackageFileSize: 250.8 KiB

Command output

##############################################################################
##############################################################################
###
### Running command:
###
###   rm -rf pathRender.buildbin-libdir && mkdir pathRender.buildbin-libdir && /Users/biocbuild/BBS/utils/build-universal.sh pathRender_1.61.0.tar.gz /Library/Frameworks/R.framework/Resources/bin/R pathRender.buildbin-libdir
###
##############################################################################
##############################################################################


>>>>>>> 
>>>>>>> INSTALLATION WITH 'R CMD INSTALL --preclean --no-multiarch --library=pathRender.buildbin-libdir pathRender_1.61.0.tar.gz'
>>>>>>> 

* installing *source* package ‘pathRender’ ...
** using staged installation
** R
** inst
** byte-compile and prepare package for lazy loading
** help
*** installing help indices
** building package indices
** installing vignettes
** testing if installed package can be loaded from temporary location
** testing if installed package can be loaded from final location
** testing if installed package keeps a record of temporary installation path
* DONE (pathRender)