Back to Multiple platform build/check report for BioC 3.14
ABCDEFGHIJKLMNO[P]QRSTUVWXYZ

All results for package pathRender

This page was generated on 2021-06-16 12:04:24 -0400 (Wed, 16 Jun 2021).

Package 1319/1993HostnameOS / ArchINSTALLBUILDCHECKBUILD BIN
pathRender 1.61.0  (landing page)
Vince Carey
Snapshot Date: 2021-06-15 14:50:06 -0400 (Tue, 15 Jun 2021)
URL: https://git.bioconductor.org/packages/pathRender
Branch: master
Last Commit: 37524cb
Last Changed Date: 2021-05-19 11:36:44 -0400 (Wed, 19 May 2021)
nebbiolo2Linux (Ubuntu 20.04.2 LTS) / x86_64  OK    OK    OK  UNNEEDED, same version is already published
riesling1Windows Server 2019 Standard / x64  OK    OK    OK    OK  NO, package depends on 'Rgraphviz' which is not available
merida1macOS 10.14.6 Mojave / x86_64  OK    OK    OK    OK  UNNEEDED, same version is already published