Back to Multiple platform build/check report for BioC 3.20:   simplified   long
ABCDEFGHIJKLMNO[P]QRSTUVWXYZ

This page was generated on 2024-06-11 15:39 -0400 (Tue, 11 Jun 2024).

HostnameOSArch (*)R versionInstalled pkgs
nebbiolo2Linux (Ubuntu 22.04.3 LTS)x86_644.4.0 RC (2024-04-16 r86468) -- "Puppy Cup" 4679
palomino4Windows Server 2022 Datacenterx644.4.0 RC (2024-04-16 r86468 ucrt) -- "Puppy Cup" 4414
merida1macOS 12.7.4 Montereyx86_644.4.0 Patched (2024-04-24 r86482) -- "Puppy Cup" 4441
kjohnson1macOS 13.6.6 Venturaarm644.4.0 Patched (2024-04-24 r86482) -- "Puppy Cup" 4394
Click on any hostname to see more info about the system (e.g. compilers)      (*) as reported by 'uname -p', except on Windows and Mac OS X

Package 1457/2239HostnameOS / ArchINSTALLBUILDCHECKBUILD BIN
packFinder 1.17.0  (landing page)
Jack Gisby
Snapshot Date: 2024-06-09 14:00 -0400 (Sun, 09 Jun 2024)
git_url: https://git.bioconductor.org/packages/packFinder
git_branch: devel
git_last_commit: 639edef
git_last_commit_date: 2024-04-30 11:20:04 -0400 (Tue, 30 Apr 2024)
nebbiolo2Linux (Ubuntu 22.04.3 LTS) / x86_64  OK    OK    OK  UNNEEDED, same version is already published
palomino4Windows Server 2022 Datacenter / x64  OK    OK    OK    OK  UNNEEDED, same version is already published
merida1macOS 12.7.4 Monterey / x86_64  OK    OK    OK    OK  UNNEEDED, same version is already published
kjohnson1macOS 13.6.6 Ventura / arm64  OK    OK    OK    OK  UNNEEDED, same version is already published


CHECK results for packFinder on nebbiolo2

To the developers/maintainers of the packFinder package:
- Allow up to 24 hours (and sometimes 48 hours) for your latest push to git@git.bioconductor.org:packages/packFinder.git to reflect on this report. See Troubleshooting Build Report for more information.
- Use the following Renviron settings to reproduce errors and warnings.
- If 'R CMD check' started to fail recently on the Linux builder(s) over a missing dependency, add the missing dependency to 'Suggests:' in your DESCRIPTION file. See Renviron.bioc for more information.

raw results


Summary

Package: packFinder
Version: 1.17.0
Command: /home/biocbuild/bbs-3.20-bioc/R/bin/R CMD check --install=check:packFinder.install-out.txt --library=/home/biocbuild/bbs-3.20-bioc/R/site-library --timings packFinder_1.17.0.tar.gz
StartedAt: 2024-06-10 01:39:54 -0400 (Mon, 10 Jun 2024)
EndedAt: 2024-06-10 01:41:32 -0400 (Mon, 10 Jun 2024)
EllapsedTime: 98.3 seconds
RetCode: 0
Status:   OK  
CheckDir: packFinder.Rcheck
Warnings: 0

Command output

##############################################################################
##############################################################################
###
### Running command:
###
###   /home/biocbuild/bbs-3.20-bioc/R/bin/R CMD check --install=check:packFinder.install-out.txt --library=/home/biocbuild/bbs-3.20-bioc/R/site-library --timings packFinder_1.17.0.tar.gz
###
##############################################################################
##############################################################################


* using log directory ‘/home/biocbuild/bbs-3.20-bioc/meat/packFinder.Rcheck’
* using R version 4.4.0 RC (2024-04-16 r86468)
* using platform: x86_64-pc-linux-gnu
* R was compiled by
    gcc (Ubuntu 11.4.0-1ubuntu1~22.04) 11.4.0
    GNU Fortran (Ubuntu 11.4.0-1ubuntu1~22.04) 11.4.0
* running under: Ubuntu 22.04.4 LTS
* using session charset: UTF-8
* checking for file ‘packFinder/DESCRIPTION’ ... OK
* checking extension type ... Package
* this is package ‘packFinder’ version ‘1.17.0’
* package encoding: UTF-8
* checking package namespace information ... OK
* checking package dependencies ... OK
* checking if this is a source package ... OK
* checking if there is a namespace ... OK
* checking for hidden files and directories ... OK
* checking for portable file names ... OK
* checking for sufficient/correct file permissions ... OK
* checking whether package ‘packFinder’ can be installed ... OK
* checking installed package size ... OK
* checking package directory ... OK
* checking ‘build’ directory ... OK
* checking DESCRIPTION meta-information ... OK
* checking top-level files ... OK
* checking for left-over files ... OK
* checking index information ... OK
* checking package subdirectories ... OK
* checking code files for non-ASCII characters ... OK
* checking R files for syntax errors ... OK
* checking whether the package can be loaded ... OK
* checking whether the package can be loaded with stated dependencies ... OK
* checking whether the package can be unloaded cleanly ... OK
* checking whether the namespace can be loaded with stated dependencies ... OK
* checking whether the namespace can be unloaded cleanly ... OK
* checking loading without being on the library search path ... OK
* checking dependencies in R code ... OK
* checking S3 generic/method consistency ... OK
* checking replacement functions ... OK
* checking foreign function calls ... OK
* checking R code for possible problems ... OK
* checking Rd files ... NOTE
checkRd: (-1) readBlast.Rd:100: Lost braces
   100 | code{\link{blastAnalysis}}, code{\link{blastAnnotate}},
       |     ^
checkRd: (-1) readBlast.Rd:100: Lost braces
   100 | code{\link{blastAnalysis}}, code{\link{blastAnnotate}},
       |                                 ^
checkRd: (-1) readBlast.Rd:101: Lost braces
   101 | code{\link{packAlign}}, 
       |     ^
checkRd: (-1) readBlast.Rd:102: Lost braces
   102 | code{\link{readUc}}, code{\link{packClust}}
       |     ^
checkRd: (-1) readBlast.Rd:102: Lost braces
   102 | code{\link{readUc}}, code{\link{packClust}}
       |                          ^
checkRd: (-1) readUc.Rd:98: Lost braces
    98 | code{\link{tirClust}}, code{\link{packAlign}}, 
       |     ^
checkRd: (-1) readUc.Rd:98: Lost braces
    98 | code{\link{tirClust}}, code{\link{packAlign}}, 
       |                            ^
checkRd: (-1) readUc.Rd:99: Lost braces
    99 | code{\link{readBlast}}, code{\link{packClust}}
       |     ^
checkRd: (-1) readUc.Rd:99: Lost braces
    99 | code{\link{readBlast}}, code{\link{packClust}}
       |                             ^
checkRd: (-1) tirClust.Rd:86: Lost braces
    86 | code{\link{packClust}}, code{\link{packAlign}},
       |     ^
checkRd: (-1) tirClust.Rd:86: Lost braces
    86 | code{\link{packClust}}, code{\link{packAlign}},
       |                             ^
* checking Rd metadata ... OK
* checking Rd cross-references ... OK
* checking for missing documentation entries ... OK
* checking for code/documentation mismatches ... OK
* checking Rd \usage sections ... OK
* checking Rd contents ... OK
* checking for unstated dependencies in examples ... OK
* checking contents of ‘data’ directory ... OK
* checking data for non-ASCII characters ... OK
* checking data for ASCII and uncompressed saves ... OK
* checking files in ‘vignettes’ ... OK
* checking examples ... OK
Examples with CPU (user + system) or elapsed time > 5s
                           user system elapsed
arabidopsisThalianaRefseq 4.805   0.22   5.024
* checking for unstated dependencies in ‘tests’ ... OK
* checking tests ...
  Running ‘testthat.R’
 OK
* checking for unstated dependencies in vignettes ... OK
* checking package vignettes ... OK
* checking re-building of vignette outputs ... OK
* checking PDF version of manual ... OK
* DONE

Status: 1 NOTE
See
  ‘/home/biocbuild/bbs-3.20-bioc/meat/packFinder.Rcheck/00check.log’
for details.


Installation output

packFinder.Rcheck/00install.out

##############################################################################
##############################################################################
###
### Running command:
###
###   /home/biocbuild/bbs-3.20-bioc/R/bin/R CMD INSTALL packFinder
###
##############################################################################
##############################################################################


* installing to library ‘/home/biocbuild/bbs-3.20-bioc/R/site-library’
* installing *source* package ‘packFinder’ ...
** using staged installation
** R
** data
** inst
** byte-compile and prepare package for lazy loading
** help
*** installing help indices
** building package indices
** installing vignettes
** testing if installed package can be loaded from temporary location
** testing if installed package can be loaded from final location
** testing if installed package keeps a record of temporary installation path
* DONE (packFinder)

Tests output

packFinder.Rcheck/tests/testthat.Rout


R version 4.4.0 RC (2024-04-16 r86468) -- "Puppy Cup"
Copyright (C) 2024 The R Foundation for Statistical Computing
Platform: x86_64-pc-linux-gnu

R is free software and comes with ABSOLUTELY NO WARRANTY.
You are welcome to redistribute it under certain conditions.
Type 'license()' or 'licence()' for distribution details.

R is a collaborative project with many contributors.
Type 'contributors()' for more information and
'citation()' on how to cite R or R packages in publications.

Type 'demo()' for some demos, 'help()' for on-line help, or
'help.start()' for an HTML browser interface to help.
Type 'q()' to quit R.

> library(testthat)
> library(packFinder)
> 
> test_check("packFinder")
DNAStringSet object of length 1:
      width seq                                             names               
[1] 3800001 GGTGTTAAAAGGTTCTTGAGTG...TAGTCAGGTTTCTAACAGAAAA Chr3
[1] "File successfully written to tempTestOutput/packMatches.csv"
[1] "FASTA written to tempTestOutput/packMatches.fasta"
[ FAIL 0 | WARN 0 | SKIP 0 | PASS 31 ]
> 
> proc.time()
   user  system elapsed 
  9.756   0.871  10.594 

Example timings

packFinder.Rcheck/packFinder-Ex.timings

nameusersystemelapsed
arabidopsisThalianaRefseq4.8050.2205.024
blastAnalysis000
blastAnnotate0.0090.0000.010
collapseSeqs0.8150.0120.828
filterWildcards0.1510.0040.155
getPackSeqs1.8170.0281.844
getPacksFromCsv0.0040.0000.020
getPacksFromFasta0.1000.0080.140
getPacksFromGRanges0.090.000.09
getTsds0.1180.0120.132
identifyPotentialPackElements0.8560.0111.195
identifyTirMatches0.1180.0120.151
makeBlastDb000
packAlign0.0960.0070.103
packBlast0.0000.0000.001
packClust0.1030.0000.103
packMatches1.7170.0201.738
packSearch1.8660.0281.926
packsToCsv0.0020.0040.018
packsToFasta0.1390.0080.179
packsToGRanges0.0230.0000.023
readBlast0.0060.0000.019
readUc0.0020.0040.006
tirClust0.9030.0120.969