Back to Multiple platform build/check report for BioC 3.14
ABCDEFGHIJKLMN[O]PQRSTUVWXYZ

This page was generated on 2021-06-22 12:06:06 -0400 (Tue, 22 Jun 2021).

BUILD results for oposSOM on riesling1

To the developers/maintainers of the oposSOM package:
- Please allow up to 24 hours (and sometimes 48 hours) for your latest push to git@git.bioconductor.org:packages/oposSOM.git to
reflect on this report. See How and When does the builder pull? When will my changes propagate? here for more information.
- Make sure to use the following settings in order to reproduce any error or warning you see on this page.

raw results

Package 1285/1993HostnameOS / ArchINSTALLBUILDCHECKBUILD BIN
oposSOM 2.11.0  (landing page)
Henry Loeffler-Wirth
Snapshot Date: 2021-06-21 14:50:06 -0400 (Mon, 21 Jun 2021)
URL: https://git.bioconductor.org/packages/oposSOM
Branch: master
Last Commit: 1672505
Last Changed Date: 2021-05-19 12:05:49 -0400 (Wed, 19 May 2021)
nebbiolo2Linux (Ubuntu 20.04.2 LTS) / x86_64  OK    OK    ERROR  
riesling1Windows Server 2019 Standard / x64  OK    OK    ERROR    OK  
merida1macOS 10.14.6 Mojave / x86_64  OK    OK    ERROR    OK  

Summary

Package: oposSOM
Version: 2.11.0
Command: chmod a+r oposSOM -R && D:\biocbuild\bbs-3.14-bioc\R\bin\R.exe CMD build --keep-empty-dirs --no-resave-data oposSOM
StartedAt: 2021-06-21 21:10:37 -0400 (Mon, 21 Jun 2021)
EndedAt: 2021-06-21 21:15:25 -0400 (Mon, 21 Jun 2021)
EllapsedTime: 287.9 seconds
RetCode: 0
Status:   OK  
PackageFile: oposSOM_2.11.0.tar.gz
PackageFileSize: 13.08 MiB

Command output

##############################################################################
##############################################################################
###
### Running command:
###
###   chmod a+r oposSOM -R && D:\biocbuild\bbs-3.14-bioc\R\bin\R.exe CMD build --keep-empty-dirs --no-resave-data oposSOM
###
##############################################################################
##############################################################################


* checking for file 'oposSOM/DESCRIPTION' ... OK
* preparing 'oposSOM':
* checking DESCRIPTION meta-information ... OK
* cleaning src
* installing the package to build vignettes
* creating vignettes ... OK
* cleaning src
* checking for LF line-endings in source and make files and shell scripts
* checking for empty or unneeded directories
* looking to see if a 'data/datalist' file should be added
* building 'oposSOM_2.11.0.tar.gz'