Back to Multiple platform build/check report for BioC 3.14
ABCDEFGHIJKLMN[O]PQRSTUVWXYZ

All results for package oposSOM

This page was generated on 2021-06-15 12:04:57 -0400 (Tue, 15 Jun 2021).

Package 1285/1993HostnameOS / ArchINSTALLBUILDCHECKBUILD BIN
oposSOM 2.11.0  (landing page)
Henry Loeffler-Wirth
Snapshot Date: 2021-06-14 14:50:10 -0400 (Mon, 14 Jun 2021)
URL: https://git.bioconductor.org/packages/oposSOM
Branch: master
Last Commit: 1672505
Last Changed Date: 2021-05-19 12:05:49 -0400 (Wed, 19 May 2021)
nebbiolo2Linux (Ubuntu 20.04.2 LTS) / x86_64  OK    OK    ERROR  
riesling1Windows Server 2019 Standard / x64  OK    OK    ERROR    OK  
merida1macOS 10.14.6 Mojave / x86_64  OK    OK    ERROR    OK