Back to Multiple platform build/check report for BioC 3.14
ABCDEFGHIJKLMN[O]PQRSTUVWXYZ

This page was generated on 2021-06-19 12:06:00 -0400 (Sat, 19 Jun 2021).

BUILD results for openCyto on riesling1

To the developers/maintainers of the openCyto package:
- Please allow up to 24 hours (and sometimes 48 hours) for your latest push to git@git.bioconductor.org:packages/openCyto.git to
reflect on this report. See How and When does the builder pull? When will my changes propagate? here for more information.
- Make sure to use the following settings in order to reproduce any error or warning you see on this page.

raw results

Package 1281/1993HostnameOS / ArchINSTALLBUILDCHECKBUILD BIN
openCyto 2.5.3  (landing page)
Mike Jiang ,Jake Wagner
Snapshot Date: 2021-06-18 14:50:08 -0400 (Fri, 18 Jun 2021)
URL: https://git.bioconductor.org/packages/openCyto
Branch: master
Last Commit: 4399a9f
Last Changed Date: 2021-06-08 14:57:02 -0400 (Tue, 08 Jun 2021)
nebbiolo2Linux (Ubuntu 20.04.2 LTS) / x86_64  OK    ERROR  skipped
riesling1Windows Server 2019 Standard / x64  OK    OK    OK    OK  NO, package depends on 'flowWorkspace' which is not available
merida1macOS 10.14.6 Mojave / x86_64  OK    ERROR  skippedskipped

Summary

Package: openCyto
Version: 2.5.3
Command: chmod a+r openCyto -R && D:\biocbuild\bbs-3.14-bioc\R\bin\R.exe CMD build --keep-empty-dirs --no-resave-data openCyto
StartedAt: 2021-06-18 21:14:24 -0400 (Fri, 18 Jun 2021)
EndedAt: 2021-06-18 21:25:41 -0400 (Fri, 18 Jun 2021)
EllapsedTime: 677.5 seconds
RetCode: 0
Status:   OK  
PackageFile: openCyto_2.5.3.tar.gz
PackageFileSize: 1.035 MiB

Command output

##############################################################################
##############################################################################
###
### Running command:
###
###   chmod a+r openCyto -R && D:\biocbuild\bbs-3.14-bioc\R\bin\R.exe CMD build --keep-empty-dirs --no-resave-data openCyto
###
##############################################################################
##############################################################################


* checking for file 'openCyto/DESCRIPTION' ... OK
* preparing 'openCyto':
* checking DESCRIPTION meta-information ... OK
* cleaning src
* installing the package to build vignettes
* creating vignettes ... OK
* cleaning src
* checking for LF line-endings in source and make files and shell scripts
* checking for empty or unneeded directories
  NB: this package now depends on R (>= 3.5.0)
  WARNING: Added dependency on R >= 3.5.0 because serialized objects in
  serialize/load version 3 cannot be read in older versions of R.
  File(s) containing such objects:
    'openCyto/tests/testthat/expectResults.rds'
* building 'openCyto_2.5.3.tar.gz'