Back to Multiple platform build/check report for BioC 3.14
ABCDEFGHIJKLMN[O]PQRSTUVWXYZ

This page was generated on 2021-08-02 12:05:20 -0400 (Mon, 02 Aug 2021).

BUILD results for openCyto on merida1

To the developers/maintainers of the openCyto package:
- Please allow up to 24 hours (and sometimes 48 hours) for your latest push to git@git.bioconductor.org:packages/openCyto.git to
reflect on this report. See How and When does the builder pull? When will my changes propagate? here for more information.
- Make sure to use the following settings in order to reproduce any error or warning you see on this page.

raw results

Package 1297/2015HostnameOS / ArchINSTALLBUILDCHECKBUILD BIN
openCyto 2.5.4  (landing page)
Mike Jiang ,Jake Wagner
Snapshot Date: 2021-08-01 14:50:04 -0400 (Sun, 01 Aug 2021)
URL: https://git.bioconductor.org/packages/openCyto
Branch: master
Last Commit: 22c609b
Last Changed Date: 2021-07-30 13:41:51 -0400 (Fri, 30 Jul 2021)
nebbiolo2Linux (Ubuntu 20.04.2 LTS) / x86_64  OK    OK    OK  UNNEEDED, same version is already published
riesling1Windows Server 2019 Standard / x64  OK    OK    OK    OK  NO, package depends on 'flowWorkspace' which is not available
merida1macOS 10.14.6 Mojave / x86_64  OK    OK    OK    OK  UNNEEDED, same version is already published

Summary

Package: openCyto
Version: 2.5.4
Command: /Library/Frameworks/R.framework/Resources/bin/R CMD build --keep-empty-dirs --no-resave-data openCyto
StartedAt: 2021-08-01 21:02:13 -0400 (Sun, 01 Aug 2021)
EndedAt: 2021-08-01 21:05:56 -0400 (Sun, 01 Aug 2021)
EllapsedTime: 222.9 seconds
RetCode: 0
Status:   OK  
PackageFile: openCyto_2.5.4.tar.gz
PackageFileSize: 1.489 MiB

Command output

##############################################################################
##############################################################################
###
### Running command:
###
###   /Library/Frameworks/R.framework/Resources/bin/R CMD build --keep-empty-dirs --no-resave-data openCyto
###
##############################################################################
##############################################################################


* checking for file ‘openCyto/DESCRIPTION’ ... OK
* preparing ‘openCyto’:
* checking DESCRIPTION meta-information ... OK
* cleaning src
* installing the package to build vignettes
* creating vignettes ... OK
* cleaning src
* checking for LF line-endings in source and make files and shell scripts
* checking for empty or unneeded directories
  NB: this package now depends on R (>= 3.5.0)
  WARNING: Added dependency on R >= 3.5.0 because serialized objects in
  serialize/load version 3 cannot be read in older versions of R.
  File(s) containing such objects:
    ‘openCyto/tests/testthat/expectResults.rds’
* building ‘openCyto_2.5.4.tar.gz’